BEGIN:VCALENDAR
VERSION:2.0
PRODID:-//wp-events-plugin.com//6.6.4.4//EN
TZID:America/Kentucky/Louisville
X-WR-TIMEZONE:America/Kentucky/Louisville
BEGIN:VEVENT
UID:17571@lexfun4kids.com
DTSTART;TZID=America/Kentucky/Louisville:20211010T130000
DTEND;TZID=America/Kentucky/Louisville:20211010T160000
DTSTAMP:20210526T175201Z
URL:https://lexfun4kids.com/events/vintage-baseball-game-101021/
SUMMARY:Vintage Baseball Game
DESCRIPTION:\n\nWaveland is the home field to the only Kentucky Vintage Bas
 e Ball team\, The Bluegrass Barons! Bring your chair and come enjoy a wond
 erful day of history\, food and of course\, the good old American pastime\
 , baseball as it was in the 1860’s!\n\nNo reservations needed! Tickets w
 ill be located at ticket booth as you enter.\n\nAdults - $5.00\nChildren 7
  years of age to 12 years old - $2.00\n\nDATES &amp\; TIMES for 2021:  
  All games start at 1 p.m.\n\n6/20\n\n7/31\n\n8/29\n\n10/10\n\n\n\nRates\
 n\n 	Adults: $5.00\n 	Children 7-12: $2.00\n\n
CATEGORIES:$5 or Less,Age Range,Elementary,History,Outdoor
 Activity,Parents,Preschoolers,Sports/Athletics,Teens,Toddlers
LOCATION:Waveland Museum\, 225 Waveland Museum Ln\, Lexington\, KY\, 40514\
 , United States
GEO:37.9707765;-84.53676960000001
X-APPLE-STRUCTURED-LOCATION;VALUE=URI;X-ADDRESS=225 Waveland Museum Ln\, Le
 xington\, KY\, 40514\, United States;X-APPLE-RADIUS=100;X-TITLE=Waveland M
 useum:geo:37.9707765,-84.53676960000001
END:VEVENT
BEGIN:VTIMEZONE
TZID:America/Kentucky/Louisville
X-LIC-LOCATION:America/Kentucky/Louisville
BEGIN:DAYLIGHT
DTSTART:20210314T030000
TZOFFSETFROM:-0500
TZOFFSETTO:-0400
TZNAME:EDT
END:DAYLIGHT
END:VTIMEZONE
END:VCALENDAR