BEGIN:VCALENDAR
VERSION:2.0
PRODID:-//wp-events-plugin.com//6.6.4.4//EN
TZID:America/Kentucky/Louisville
X-WR-TIMEZONE:America/Kentucky/Louisville
BEGIN:VEVENT
UID:24791@lexfun4kids.com
DTSTART;TZID=America/Kentucky/Louisville:20241123T140000
DTEND;TZID=America/Kentucky/Louisville:20241123T150000
DTSTAMP:20241112T173351Z
URL:https://lexfun4kids.com/events/the-nutcracker-ballet-112324/
SUMMARY:The Nutcracker Ballet
DESCRIPTION:Join Central Kentucky Dance Theatre as they open the holiday se
 ason with a celebration of the holiday through the timeless story of " The
  Nutcracker." Join Clara through this magical adventure that will warm you
 r heart and fill your holiday season with joy.\n\nTicket link: https://tra
 nsytickets.ticketspice.com/ckbcnutcracker
CATEGORIES:Advance Registration,Age
 Range,Christmas,Dance,Elementary,Holidays,Indoor
 Activity,Parents,Performance,Preschoolers,Teens
LOCATION:Transylvania University\, 300 N. Broadway\, Lexington\, KY\, 40508
 \, United States
GEO:38.0528459;-84.49226929999998
X-APPLE-STRUCTURED-LOCATION;VALUE=URI;X-ADDRESS=300 N. Broadway\, Lexington
 \, KY\, 40508\, United States;X-APPLE-RADIUS=100;X-TITLE=Transylvania Univ
 ersity:geo:38.0528459,-84.49226929999998
END:VEVENT
BEGIN:VTIMEZONE
TZID:America/Kentucky/Louisville
X-LIC-LOCATION:America/Kentucky/Louisville
BEGIN:STANDARD
DTSTART:20241103T010000
TZOFFSETFROM:-0400
TZOFFSETTO:-0500
TZNAME:EST
END:STANDARD
END:VTIMEZONE
END:VCALENDAR