BEGIN:VCALENDAR
VERSION:2.0
PRODID:-//wp-events-plugin.com//6.6.4.4//EN
TZID:America/Kentucky/Louisville
X-WR-TIMEZONE:America/Kentucky/Louisville
BEGIN:VEVENT
UID:28839@lexfun4kids.com
DTSTART;TZID=America/Kentucky/Louisville:20260131T160000
DTEND;TZID=America/Kentucky/Louisville:20260131T180000
DTSTAMP:20260106T185708Z
URL:https://lexfun4kids.com/events/the-bluegrass-royal-ball-father-daughte
 r-dance-013126/
SUMMARY:The Bluegrass Royal Ball - Father Daughter Dance
DESCRIPTION:Hear Ye\, Hear Ye!By command of joy and celebration\, all noble
  fathers and cherished daughters of the Bluegrass region are hereby invite
 d to attend: The Bluegrass Royal Ball.\nLet it be known that on this magic
 al evening\, hearts shall be lifted\, laughter shall echo through the hall
 s\, and memories shall be forged to last a lifetime. Fathers shall lead\, 
 daughters shall twirl\, and all shall partake in a celebration of love\, h
 onor\, wonder and delight.\nWhere: Northeast Christian ChurchWhen: January
  31st | 4-6 pmAttire: Regal &amp\; Resplendent (gowns\, suits\, and crowns
  encouraged\, only merriment is required!)\nCome\, partake in this majesti
 c occasion\, where every step upon the dance floor is a royal decree of jo
 y. Your presence is requested to make this night truly unforgettable!\nSig
 n up today! https://ncclex.churchcenter.com/registrations/events/3278132
CATEGORIES:Advance Registration,Age
 Range,Dance,Elementary,Parents,Preschoolers,Toddlers
LOCATION:Northeast Christian Church\, 990 Star Shoot Parkway\, Lexington\, 
 KY\, 40509\, United States
GEO:38.021028;-84.42662150000001
X-APPLE-STRUCTURED-LOCATION;VALUE=URI;X-ADDRESS=990 Star Shoot Parkway\, Le
 xington\, KY\, 40509\, United States;X-APPLE-RADIUS=100;X-TITLE=Northeast 
 Christian Church:geo:38.021028,-84.42662150000001
END:VEVENT
BEGIN:VTIMEZONE
TZID:America/Kentucky/Louisville
X-LIC-LOCATION:America/Kentucky/Louisville
BEGIN:STANDARD
DTSTART:20251102T010000
TZOFFSETFROM:-0400
TZOFFSETTO:-0500
TZNAME:EST
END:STANDARD
END:VTIMEZONE
END:VCALENDAR