BEGIN:VCALENDAR
VERSION:2.0
PRODID:-//wp-events-plugin.com//6.6.4.4//EN
TZID:America/Kentucky/Louisville
X-WR-TIMEZONE:America/Kentucky/Louisville
BEGIN:VEVENT
UID:29141@lexfun4kids.com
DTSTART;TZID=America/Kentucky/Louisville:20260404T080000
DTEND;TZID=America/Kentucky/Louisville:20260404T100000
DTSTAMP:20260314T224517Z
URL:https://lexfun4kids.com/events/sunrise-trackside-2026-04-04/
SUMMARY:Sunrise Trackside
DESCRIPTION:\nSunrise Trackside - Bring the whole family out to Keeneland f
 or Sunrise Trackside to experience the morning sights and sounds of mornin
 g works. The Starting Gate concession stand will offer coffee and donuts t
 o enjoy while watching morning works. From 8:00 - 10:00 a.m.\, children ca
 n take part in exciting activities under the grandstand including a meet a
 nd greet with Buckles\, get their face painted\, play fun games\, get a jo
 ckey silk photo and more! Kids can also meet a horse from 8:30 - 9:00 a.m.
  in the Walking Ring. During this time\, mini tours with one of our tour g
 uides will be available starting from the welcome stand in the Paddock.\n\
 n\n\nSpring Meet: April 4\, 11\, 18Fall Meet: October 3\, 10\, 17\, 24\n
CATEGORIES:Age Range,Babies,Elementary,Free,Outdoor
 Activity,Parents,Preschoolers,Teens,Toddlers
LOCATION:Keeneland\, 4201 Versailles Road\, Lexington\, KY\, 40510\, United
  States
GEO:38.0469517;-84.60624039999999
X-APPLE-STRUCTURED-LOCATION;VALUE=URI;X-ADDRESS=4201 Versailles Road\, Lexi
 ngton\, KY\, 40510\, United States;X-APPLE-RADIUS=100;X-TITLE=Keeneland:ge
 o:38.0469517,-84.60624039999999
END:VEVENT
BEGIN:VTIMEZONE
TZID:America/Kentucky/Louisville
X-LIC-LOCATION:America/Kentucky/Louisville
BEGIN:DAYLIGHT
DTSTART:20260308T030000
TZOFFSETFROM:-0500
TZOFFSETTO:-0400
TZNAME:EDT
END:DAYLIGHT
END:VTIMEZONE
END:VCALENDAR