BEGIN:VCALENDAR
VERSION:2.0
PRODID:-//wp-events-plugin.com//6.6.4.4//EN
TZID:America/Kentucky/Louisville
X-WR-TIMEZONE:America/Kentucky/Louisville
BEGIN:VEVENT
UID:29148@lexfun4kids.com
DTSTART;TZID=America/Kentucky/Louisville:20261024T080000
DTEND;TZID=America/Kentucky/Louisville:20261024T100000
DTSTAMP:20260314T224440Z
URL:https://lexfun4kids.com/events/sunrise-trackside-2-2026-10-24/
SUMMARY:Sunrise Trackside
DESCRIPTION:Visit Keeneland on Saturday mornings during the race meet to ex
 perience the sunrise\, sights and sounds of Sunrise Trackside at Keeneland
 . Coffee and light breakfast offerings will be available to enjoy at The S
 tarting Gate concession stand while watching morning works.\nGuests of all
  ages can learn more about the workings of Keeneland by joining a complime
 ntary mini tour. Visit the Tours Podium located near the Paddock area for 
 more information.\nChildren's Activities will take place from 8 – 10 a.m
 . underneath the grandstand. Activities include a visit with Keeneland’
 s mascot\, Buckles\, games\, jockey silk photos\, and more! From 8:30 - 9 
 a.m. families can pet a horse in the paddock and visit the track apron to 
 watch the John Deere Tractor break as they groom the track between morning
  workouts.\nSunrise Trackside is open to all\, and tickets are not require
 d to attend this event. Please review parking information below for a seam
 less entry to the event. If you have questions\, contact us at kidsclub@k
 eeneland.com. We look forward to sharing the magic of the morning with yo
 u and your family.\nFall Meet: October 3\, 10\, 17\, 24
CATEGORIES:Age Range,Babies,Elementary,Free,Outdoor
 Activity,Parents,Preschoolers,Teens,Toddlers
LOCATION:Keeneland\, 4201 Versailles Road\, Lexington\, KY\, 40510\, United
  States
GEO:38.0469517;-84.60624039999999
X-APPLE-STRUCTURED-LOCATION;VALUE=URI;X-ADDRESS=4201 Versailles Road\, Lexi
 ngton\, KY\, 40510\, United States;X-APPLE-RADIUS=100;X-TITLE=Keeneland:ge
 o:38.0469517,-84.60624039999999
END:VEVENT
BEGIN:VTIMEZONE
TZID:America/Kentucky/Louisville
X-LIC-LOCATION:America/Kentucky/Louisville
BEGIN:DAYLIGHT
DTSTART:20260308T030000
TZOFFSETFROM:-0500
TZOFFSETTO:-0400
TZNAME:EDT
END:DAYLIGHT
END:VTIMEZONE
END:VCALENDAR