BEGIN:VCALENDAR
VERSION:2.0
PRODID:-//wp-events-plugin.com//6.6.4.4//EN
TZID:America/Kentucky/Louisville
X-WR-TIMEZONE:America/Kentucky/Louisville
BEGIN:VEVENT
UID:29192@lexfun4kids.com
DTSTART;TZID=America/Kentucky/Louisville:20260516T100000
DTEND;TZID=America/Kentucky/Louisville:20260516T130000
DTSTAMP:20260326T143748Z
URL:https://lexfun4kids.com/events/streetfest-2026/
SUMMARY:StreetFest
DESCRIPTION:Join us to celebrate streets as shared\, public space! We shut 
 down the road to let folks ride\, scoot\, skate and just walk freely. Stre
 etFest features games\, food trucks\, live music and fun. StreetFest remin
 ds us that streets are for everyone\, whether they bike\, walk\, roll or d
 rive. During the event\, we hope folks can imagine what it means to be a "
 complete street."\n\nShropshire Ave. | 540 E Third St.
CATEGORIES:Age Range,Arts,Babies,Elementary,Food,Free,Music,Outdoor
 Activity,Parents,Preschoolers,Teens,Toddlers
LOCATION:Charles Young Community Center\, 540 E Third Street\, Lexington\, 
 KY\, 40508\, United States
GEO:38.043313;-84.484073
X-APPLE-STRUCTURED-LOCATION;VALUE=URI;X-ADDRESS=540 E Third Street\, Lexing
 ton\, KY\, 40508\, United States;X-APPLE-RADIUS=100;X-TITLE=Charles Young 
 Community Center:geo:38.043313,-84.484073
END:VEVENT
BEGIN:VTIMEZONE
TZID:America/Kentucky/Louisville
X-LIC-LOCATION:America/Kentucky/Louisville
BEGIN:DAYLIGHT
DTSTART:20260308T030000
TZOFFSETFROM:-0500
TZOFFSETTO:-0400
TZNAME:EDT
END:DAYLIGHT
END:VTIMEZONE
END:VCALENDAR