BEGIN:VCALENDAR
VERSION:2.0
PRODID:-//wp-events-plugin.com//6.6.4.4//EN
TZID:America/Kentucky/Louisville
X-WR-TIMEZONE:America/Kentucky/Louisville
BEGIN:VEVENT
UID:29354@lexfun4kids.com
DTSTART;TZID=America/Kentucky/Louisville:20260517T110000
DTEND;TZID=America/Kentucky/Louisville:20260517T120000
DTSTAMP:20260418T221419Z
URL:https://lexfun4kids.com/events/storytime-play-with-ms-frizzle-once-upo
 n-a-fairytale-051726/
SUMMARY:Storytime + Play with Ms. Frizzle & Once Upon a Fairytale
DESCRIPTION:\n\nJoin us for an EXTRA special play time collaboration with O
 nce Upon a Fairytale where the real Ms. Frizzle will be joining us to host
  a story time reading one of her books followed by playtime with themed sn
 acks and craft!\n\n\n\n\nThis is a very intimate event where every child w
 ill get one-on-one time and get to play with the character- the event is l
 imited to 10 children per session!\n\nONE adult is welcome to attend per c
 hild ticket\nSessions: 11AM-12PM + 12:30PM-1:30PM\nALL SALES FINAL- no ref
 unds or cancellations\n\n
CATEGORIES:Advance Registration,Age Range,Elementary,Food,Indoor
 Activity,Preschoolers,Storytime,Toddlers
LOCATION:Gathered Play + Create\, 151 South Main St.\, Lexington\, KY\, 403
 83\, United States
GEO:38.052273;-84.730689
X-APPLE-STRUCTURED-LOCATION;VALUE=URI;X-ADDRESS=151 South Main St.\, Lexing
 ton\, KY\, 40383\, United States;X-APPLE-RADIUS=100;X-TITLE=Gathered Play 
 + Create:geo:38.052273,-84.730689
END:VEVENT
BEGIN:VTIMEZONE
TZID:America/Kentucky/Louisville
X-LIC-LOCATION:America/Kentucky/Louisville
BEGIN:DAYLIGHT
DTSTART:20260308T030000
TZOFFSETFROM:-0500
TZOFFSETTO:-0400
TZNAME:EDT
END:DAYLIGHT
END:VTIMEZONE
END:VCALENDAR