BEGIN:VCALENDAR
VERSION:2.0
PRODID:-//wp-events-plugin.com//6.6.4.4//EN
TZID:America/Kentucky/Louisville
X-WR-TIMEZONE:America/Kentucky/Louisville
BEGIN:VEVENT
UID:29353@lexfun4kids.com
DTSTART;TZID=America/Kentucky/Louisville:20260419T110000
DTEND;TZID=America/Kentucky/Louisville:20260419T120000
DTSTAMP:20260418T221208Z
URL:https://lexfun4kids.com/events/storytime-and-play-with-madeline-041926
 /
SUMMARY:Storytime and Play with Madeline
DESCRIPTION:Join us for an EXTRA special character storytime with Once Upon
  a Fairytale: the real Madeline will join us to read her book\, followed b
 y playtime\, themed snacks and craft\, and photos galore!\n\nThis is a ver
 y intimate event where every child will get one-on-one time and get to pla
 y with the character. Each child will also get a red scarf\, Madeline hat\
 , dog stuffie\, + kid's drink!\n\nONE adult may attend per child ticket\nA
 LL SALES FINAL- no refunds or cancellations\nSessions 11AM-12PM and 12:30P
 M-1:30PM
CATEGORIES:Advance Registration,Age Range,Elementary,Food,Indoor
 Activity,Preschoolers,Storytime,Toddlers
LOCATION:Gathered Play + Create\, 151 South Main St.\, Lexington\, KY\, 403
 83\, United States
GEO:38.052273;-84.730689
X-APPLE-STRUCTURED-LOCATION;VALUE=URI;X-ADDRESS=151 South Main St.\, Lexing
 ton\, KY\, 40383\, United States;X-APPLE-RADIUS=100;X-TITLE=Gathered Play 
 + Create:geo:38.052273,-84.730689
END:VEVENT
BEGIN:VTIMEZONE
TZID:America/Kentucky/Louisville
X-LIC-LOCATION:America/Kentucky/Louisville
BEGIN:DAYLIGHT
DTSTART:20260308T030000
TZOFFSETFROM:-0500
TZOFFSETTO:-0400
TZNAME:EDT
END:DAYLIGHT
END:VTIMEZONE
END:VCALENDAR