BEGIN:VCALENDAR
VERSION:2.0
PRODID:-//wp-events-plugin.com//6.6.4.4//EN
TZID:America/Kentucky/Louisville
X-WR-TIMEZONE:America/Kentucky/Louisville
BEGIN:VEVENT
UID:29139@lexfun4kids.com
DTSTART;TZID=America/Kentucky/Louisville:20261219T103000
DTEND;TZID=America/Kentucky/Louisville:20261219T113000
DTSTAMP:20260314T224000Z
URL:https://lexfun4kids.com/events/starting-gate-storytime-121926/
SUMMARY:Starting Gate Storytime
DESCRIPTION:Join us for Starting Gate Storytime at Keeneland Library\, wher
 e the horse is front and center in live readings of select children’s st
 ories. Each book is paired with a literacy\, art\, history\, industry awar
 eness\, or STEM activity\, and Keeneland Kids Club’s favorite mascot Buc
 kles will be on hand to brush up on his reading and spend time with young 
 racing fans and horse lovers.\n\nThis series is ideal for learners ages 3 
 through 7. Starting Gate Storytime programs are free but book your spot
  soon\, because these tickets are sure to move fast out of the starting 
 gate.\n\nSeptember 19 at 10:30 a.m.: A Horse Called Now by Ruth Doyle\nN
 ovember 14 at 10:30 a.m.: Brave Old Blue by Colleen Muske\nDecember 19 a
 t 10:30 a.m.: Snow Horses: A First Night Story by Patricia MacLachlan
CATEGORIES:Advance Registration,Age Range,Babies,Elementary,Free,Indoor
 Activity,Parents,Preschoolers,Storytime,Toddlers
LOCATION:Keeneland\, 4201 Versailles Road\, Lexington\, KY\, 40510\, United
  States
GEO:38.0469517;-84.60624039999999
X-APPLE-STRUCTURED-LOCATION;VALUE=URI;X-ADDRESS=4201 Versailles Road\, Lexi
 ngton\, KY\, 40510\, United States;X-APPLE-RADIUS=100;X-TITLE=Keeneland:ge
 o:38.0469517,-84.60624039999999
END:VEVENT
BEGIN:VTIMEZONE
TZID:America/Kentucky/Louisville
X-LIC-LOCATION:America/Kentucky/Louisville
BEGIN:STANDARD
DTSTART:20261101T010000
TZOFFSETFROM:-0400
TZOFFSETTO:-0500
TZNAME:EST
END:STANDARD
END:VTIMEZONE
END:VCALENDAR