BEGIN:VCALENDAR
VERSION:2.0
PRODID:-//wp-events-plugin.com//6.6.4.4//EN
TZID:America/Kentucky/Louisville
X-WR-TIMEZONE:America/Kentucky/Louisville
BEGIN:VEVENT
UID:29025@lexfun4kids.com
DTSTART;TZID=America/Kentucky/Louisville:20260321T200000
DTEND;TZID=America/Kentucky/Louisville:20260321T220000
DTSTAMP:20260302T001611Z
URL:https://lexfun4kids.com/events/stargazing-032126/
SUMMARY:Stargazing
DESCRIPTION:\n\nStargazing nights at Raven Run are a special treat. My kids
  and I were amazed at the huge telescopes local astronomers bring out for 
 visitors to use. We saw the Space Station fly overhead\, planets\, constel
 lations and other things in the night sky.  Some events are held as early
  as 7:30 pm (time depends on sunset).\n\n \n\n \nUpcoming 2026 Stargazing 
 Dates - No Registration Needed!\n \n\nMarch 21 - 8:00pm - 10:00pm\nApril 1
 8 - 8:30pm - 10:30pm\nMay 16 - 9:00pm - 11:00pm\nJune 13 - 9:00pm - 11:00p
 m\nJuly 11 - 9:00pm - 11:00pm\nAugust 15 - 9:00pm - 11:00pm\nSeptember 12 
 - 8:30pm - 10:30pm\nOctober 10 - 7:30pm - 9:30pm\n\n \n\nCall ahead or che
 ck their Facebook page to make sure the event isn't canceled for weather.\
 nHosted by the Bluegrass Amateur Astronomy Club\n\n
CATEGORIES:Age Range,Elementary,Free,Outdoor
 Activity,Parents,Preschoolers,Teens,Toddlers
LOCATION:Raven Run\, 3885 Raven Run Way\, Lexington\, KY\, 40515\, United S
 tates
GEO:37.88843200000001;-84.39842909999999
X-APPLE-STRUCTURED-LOCATION;VALUE=URI;X-ADDRESS=3885 Raven Run Way\, Lexing
 ton\, KY\, 40515\, United States;X-APPLE-RADIUS=100;X-TITLE=Raven Run:geo:
 37.88843200000001,-84.39842909999999
END:VEVENT
BEGIN:VTIMEZONE
TZID:America/Kentucky/Louisville
X-LIC-LOCATION:America/Kentucky/Louisville
BEGIN:DAYLIGHT
DTSTART:20260308T030000
TZOFFSETFROM:-0500
TZOFFSETTO:-0400
TZNAME:EDT
END:DAYLIGHT
END:VTIMEZONE
END:VCALENDAR