BEGIN:VCALENDAR
VERSION:2.0
PRODID:-//wp-events-plugin.com//6.6.4.4//EN
TZID:America/Kentucky/Louisville
X-WR-TIMEZONE:America/Kentucky/Louisville
BEGIN:VEVENT
UID:29344@lexfun4kids.com
DTSTART;TZID=America/Kentucky/Louisville:20260508T090000
DTEND;TZID=America/Kentucky/Louisville:20260508T110000
DTSTAMP:20260418T212431Z
URL:https://lexfun4kids.com/events/spring-migration-bird-walks-050826/
SUMMARY:Spring Migration Bird Walks
DESCRIPTION:May: Join the Raven Run staff for our Spring Migration Bird Wal
 ks during peak migration in May. We will explore the birds throughout Rave
 n Run Nature Sanctuary. Beginner and experienced participants are welcome.
  Program is recommended for adults and children ages 10+. Free. Dress for 
 the weather and wear comfortable walking shoes or hiking boots. Some binoc
 ulars are available to borrow if you don't have your own. Hiking routes va
 ry but typically routes will be approximately 1.5 - 2 miles over easy to m
 oderately difficult terrain with some uneven terrain and elevation gains/l
 osses. Please feel free to call ahead for further details about route and/
 or any accessibility concerns. Registration is strongly encouraged but not
  required for this program. Please feel free to reach out to us at the Nat
 ure Center if you have questions at 859- 272-6105.\nMay 1\, 2026 9 am - 11
  am\nMay 8\, 2026 9 am - 11 am\nMay 15\, 2026 9 am - 11 am\nMay 22\, 2026 
 9 am - 11 am\nMay 29\, 2026 9 am - 11 am
CATEGORIES:Age Range,Elementary,Free,Outdoor Activity,Parents,Teens
LOCATION:Raven Run\, 3885 Raven Run Way\, Lexington\, KY\, 40515\, United S
 tates
GEO:37.88843200000001;-84.39842909999999
X-APPLE-STRUCTURED-LOCATION;VALUE=URI;X-ADDRESS=3885 Raven Run Way\, Lexing
 ton\, KY\, 40515\, United States;X-APPLE-RADIUS=100;X-TITLE=Raven Run:geo:
 37.88843200000001,-84.39842909999999
END:VEVENT
BEGIN:VTIMEZONE
TZID:America/Kentucky/Louisville
X-LIC-LOCATION:America/Kentucky/Louisville
BEGIN:DAYLIGHT
DTSTART:20260308T030000
TZOFFSETFROM:-0500
TZOFFSETTO:-0400
TZNAME:EDT
END:DAYLIGHT
END:VTIMEZONE
END:VCALENDAR