BEGIN:VCALENDAR
VERSION:2.0
PRODID:-//wp-events-plugin.com//6.6.4.4//EN
TZID:America/Kentucky/Louisville
X-WR-TIMEZONE:America/Kentucky/Louisville
BEGIN:VEVENT
UID:18889@lexfun4kids.com
DTSTART;TZID=America/Kentucky/Louisville:20220429T170000
DTEND;TZID=America/Kentucky/Louisville:20220429T230000
DTSTAMP:20220429T175349Z
URL:https://lexfun4kids.com/events/spring-carnival-042922/
SUMMARY:Spring Carnival
DESCRIPTION:Enjoy a variety of carnival rides and food at Fayette Mall!  B
 ig Rock Amusements has a Spring Carnival to enjoy through May 8th\, 2022. 
 The event is set up behind the mall.\n\nHours\n\nMonday - Thursday:\n5pm -
  9pm\n\nFriday:\n5pm - 11pm\n\nSaturday:\n1pm - 11pm\n\nSunday:\n1pm - 9pm
 \n\nPricing\n\n1 ticket - $1.25\n20 tickets - $20.00\n\nRides require 2-5 
 tickets.\n\nUnlimited Wrist Bands\nSat - Sun $30\nMon - Thur $25\n\nFor mo
 re information about the rides and height requirements CLICK HERE
CATEGORIES:Age Range,Elementary,Food,Outdoor
 Activity,Parents,Preschoolers,Teens,Toddlers
LOCATION:Fayette Mall\, 3401 Nicholasville Rd\, Lexington\, Ky\, 40503\, Un
 ited States
GEO:37.99027;-84.52419099999997
X-APPLE-STRUCTURED-LOCATION;VALUE=URI;X-ADDRESS=3401 Nicholasville Rd\, Lex
 ington\, Ky\, 40503\, United States;X-APPLE-RADIUS=100;X-TITLE=Fayette Mal
 l:geo:37.99027,-84.52419099999997
END:VEVENT
BEGIN:VTIMEZONE
TZID:America/Kentucky/Louisville
X-LIC-LOCATION:America/Kentucky/Louisville
BEGIN:DAYLIGHT
DTSTART:20220313T030000
TZOFFSETFROM:-0500
TZOFFSETTO:-0400
TZNAME:EDT
END:DAYLIGHT
END:VTIMEZONE
END:VCALENDAR