BEGIN:VCALENDAR
VERSION:2.0
PRODID:-//wp-events-plugin.com//6.6.4.4//EN
TZID:America/Kentucky/Louisville
X-WR-TIMEZONE:America/Kentucky/Louisville
BEGIN:VEVENT
UID:19337@lexfun4kids.com
DTSTART;TZID=America/Kentucky/Louisville:20220721T190000
DTEND;TZID=America/Kentucky/Louisville:20220721T213000
DTSTAMP:20220717T132646Z
URL:https://lexfun4kids.com/events/shrek-the-musical-072122/
SUMMARY:Shrek the Musical
DESCRIPTION:\n\nYou know the stories. You’ve read the fairy tales. They a
 ll begin with “Once Upon a Time” and end with “Happily Ever After”
  and there’s a whole lot about Daring Quests and Magic Spells and True L
 ove in between. They all say that princesses are pretty and delicate\, don
 keys don’t talk\, and ogres are certainly\, absolutely\, never the hero.
  But maybe\, just maybe\, the stories might be wrong. \n\nJoin Lexington 
 Children’s Theatre for this wacky musical celebration of friendship\, fa
 iry tales\, and the things that make us special. Shrek The Musical opens
  July 21 and our story won’t be complete without YOU in the audience! So
 \, get ready to laugh your gumdrop buttons off and expect the unexpected\,
  because THIS is a fairy tale like you’ve never seen before.\n\n\n\n\nBa
 sed on the Dreamworks Animation Motion Picture and the book by William St
 eig\nBook and Lyrics by David Lindsay-Abaire\nMusic by Jeanine Tesori\nOri
 ginally produced on Broadway by DreamWorks Theatricals and Neal Street Pro
 ductions\n\nBest enjoyed by ages 6 and up\n\nPerformed on The Larry and 
 Vivian Snipes Main Stage\n\nLength of Show: Approximately 2 and a half ho
 urs long with an intermission\n\n\n\nFamily Weekend Performance Info\nThur
 sday\, July 21 – 7:00pm\nFriday\, July 22 – 7:00pm\nSaturday\, Jul
 y 23 – 2:00pm\nSunday\, July 24 – 2:00pm\n\nThursday\, July 28 
 – 7:00pm\nFriday\, July 29 – 7:00pm\nSaturday\, July 30 – 2:00p
 m &amp\; 7:00pm*\nSunday\, July 31 – 2:00pm\n\n*Pay What You Will\n\
 n
ATTACH;FMTTYPE=image/jpeg:https://lexfun4kids.com/wp-content/uploads/2022/
 06/289192041_10159839535202464_3850523380890447355_n.jpg
CATEGORIES:Age Range,Display Image,Elementary,Indoor Activity,Lex Fun 4
 Kids Listing Type,Music,Parents,Preschoolers,Sponsored
 Events,Teens,Theater
LOCATION:Lexington Children's Theatre\, 418 W Short Street\, Lexington\, KY
 \, 40507\, United States
GEO:38.049737;-84.4998094
X-APPLE-STRUCTURED-LOCATION;VALUE=URI;X-ADDRESS=418 W Short Street\, Lexing
 ton\, KY\, 40507\, United States;X-APPLE-RADIUS=100;X-TITLE=Lexington Chil
 dren's Theatre:geo:38.049737,-84.4998094
END:VEVENT
BEGIN:VTIMEZONE
TZID:America/Kentucky/Louisville
X-LIC-LOCATION:America/Kentucky/Louisville
BEGIN:DAYLIGHT
DTSTART:20220313T030000
TZOFFSETFROM:-0500
TZOFFSETTO:-0400
TZNAME:EDT
END:DAYLIGHT
END:VTIMEZONE
END:VCALENDAR