BEGIN:VCALENDAR
VERSION:2.0
PRODID:-//wp-events-plugin.com//6.6.4.4//EN
TZID:America/Kentucky/Louisville
X-WR-TIMEZONE:America/Kentucky/Louisville
BEGIN:VEVENT
UID:27527@lexfun4kids.com
DTSTART;TZID=America/Kentucky/Louisville;VALUE=DATE:20251221
DTEND;TZID=America/Kentucky/Louisville;VALUE=DATE:20251222
DTSTAMP:20251213T213022Z
URL:https://lexfun4kids.com/events/santa-visits-click-for-area-info-2025-1
 2-21/
SUMMARY:Santa Visits *Click for area info!
DESCRIPTION:Click HERE for information on where to see Santa!\n\n
ATTACH;FMTTYPE=image/jpeg:https://lexfun4kids.com/wp-content/uploads/2025/
 10/Where-to-find-Santa-25.jpg
CATEGORIES:Age Range,Babies,Christmas,Display
 Image,Elementary,Holidays,Lex Fun 4 Kids Listing
 Type,Parents,Preschoolers,Santa Event,Sponsored Events,Teens,Toddlers
END:VEVENT
BEGIN:VTIMEZONE
TZID:America/Kentucky/Louisville
X-LIC-LOCATION:America/Kentucky/Louisville
BEGIN:STANDARD
DTSTART:20251102T010000
TZOFFSETFROM:-0400
TZOFFSETTO:-0500
TZNAME:EST
END:STANDARD
END:VTIMEZONE
END:VCALENDAR