BEGIN:VCALENDAR
VERSION:2.0
PRODID:-//wp-events-plugin.com//6.6.4.4//EN
TZID:America/Kentucky/Louisville
X-WR-TIMEZONE:America/Kentucky/Louisville
BEGIN:VEVENT
UID:27526@lexfun4kids.com
DTSTART;TZID=America/Kentucky/Louisville;VALUE=DATE:20251220
DTEND;TZID=America/Kentucky/Louisville;VALUE=DATE:20251221
DTSTAMP:20251022T222702Z
URL:https://lexfun4kids.com/events/santa-visits-click-for-area-info-2025-1
 2-20/
SUMMARY:Santa Visits *Click for area info!
DESCRIPTION:Click HERE for information on where to see Santa!\n\n
CATEGORIES:Age
 Range,Babies,Christmas,Elementary,Holidays,Parents,Preschoolers,Santa
 Event,Teens,Toddlers
END:VEVENT
BEGIN:VTIMEZONE
TZID:America/Kentucky/Louisville
X-LIC-LOCATION:America/Kentucky/Louisville
BEGIN:STANDARD
DTSTART:20251102T010000
TZOFFSETFROM:-0400
TZOFFSETTO:-0500
TZNAME:EST
END:STANDARD
END:VTIMEZONE
END:VCALENDAR