BEGIN:VCALENDAR
VERSION:2.0
PRODID:-//wp-events-plugin.com//6.6.4.4//EN
TZID:America/Kentucky/Louisville
X-WR-TIMEZONE:America/Kentucky/Louisville
BEGIN:VEVENT
UID:29034@lexfun4kids.com
DTSTART;TZID=America/Kentucky/Louisville:20260321T130000
DTEND;TZID=America/Kentucky/Louisville:20260321T150000
DTSTAMP:20260302T002618Z
URL:https://lexfun4kids.com/events/salamander-spotlight-032126/
SUMMARY:Salamander Spotlight
DESCRIPTION:Join us for Water Week to learn about and observe salamanders! 
 The Price Herpetology Lab from the University of Kentucky will be joining 
 us with their expert knowledge and live adult salamanders. We will also ha
 ve a temporary aquatic tank with live salamander larvae. This is an all-ag
 es drop-in program in our Education Building area. Free. No registration r
 equired but please be respectful in sharing space. Please note that this p
 rogram does not include a hike to the creek.\nMarch 21\, 2026 1 - 3 pm FRE
 E
CATEGORIES:Age Range,Elementary,Free,Outdoor
 Activity,Parents,Preschoolers,Teens,Toddlers
LOCATION:Raven Run\, 3885 Raven Run Way\, Lexington\, KY\, 40515\, United S
 tates
GEO:37.88843200000001;-84.39842909999999
X-APPLE-STRUCTURED-LOCATION;VALUE=URI;X-ADDRESS=3885 Raven Run Way\, Lexing
 ton\, KY\, 40515\, United States;X-APPLE-RADIUS=100;X-TITLE=Raven Run:geo:
 37.88843200000001,-84.39842909999999
END:VEVENT
BEGIN:VTIMEZONE
TZID:America/Kentucky/Louisville
X-LIC-LOCATION:America/Kentucky/Louisville
BEGIN:DAYLIGHT
DTSTART:20260308T030000
TZOFFSETFROM:-0500
TZOFFSETTO:-0400
TZNAME:EDT
END:DAYLIGHT
END:VTIMEZONE
END:VCALENDAR