BEGIN:VCALENDAR
VERSION:2.0
PRODID:-//wp-events-plugin.com//6.6.4.4//EN
TZID:America/Kentucky/Louisville
X-WR-TIMEZONE:America/Kentucky/Louisville
BEGIN:VEVENT
UID:19336@lexfun4kids.com
DTSTART;TZID=America/Kentucky/Louisville:20220715T123000
DTEND;TZID=America/Kentucky/Louisville:20220715T133000
DTSTAMP:20220609T181704Z
URL:https://lexfun4kids.com/events/on-the-move-art-studio-at-the-lexington
 -public-library-071522-2/
SUMMARY:On the Move Art Studio at the Lexington Public Library
DESCRIPTION:\nOn the Move Art Studio\n\n\n\n\n\n\n\nGet creative with On th
 e Move Art Studio.  You will get to create a piece of art to take home. F
 or ages 3-11.\n\n 	Central Library - July 11th\, 10:30am\n 	Village Branch
  - July 11th\, 2:30pm\n 	Northside Branch - July 14th\, 10:30am\n 	Eastsid
 e Branch - July 14th\, 2:30pm\n 	Tates Creek Branch - July 15th\, 10:30am\
 n 	Beaumont Branch - July 15th\,12:30pm\n\n\n
CATEGORIES:Age Range,Arts,Elementary,Free,Indoor Activity,Preschoolers
LOCATION:Lexington Public Library Beaumont Branch\, 3080 Fieldstone Way\, L
 exington\, KY\, 40513\, United States
GEO:38.013062;-84.557678
X-APPLE-STRUCTURED-LOCATION;VALUE=URI;X-ADDRESS=3080 Fieldstone Way\, Lexin
 gton\, KY\, 40513\, United States;X-APPLE-RADIUS=100;X-TITLE=Lexington Pub
 lic Library Beaumont Branch:geo:38.013062,-84.557678
END:VEVENT
BEGIN:VTIMEZONE
TZID:America/Kentucky/Louisville
X-LIC-LOCATION:America/Kentucky/Louisville
BEGIN:DAYLIGHT
DTSTART:20220313T030000
TZOFFSETFROM:-0500
TZOFFSETTO:-0400
TZNAME:EDT
END:DAYLIGHT
END:VTIMEZONE
END:VCALENDAR