BEGIN:VCALENDAR
VERSION:2.0
PRODID:-//wp-events-plugin.com//6.6.4.4//EN
TZID:America/Kentucky/Louisville
X-WR-TIMEZONE:America/Kentucky/Louisville
BEGIN:VEVENT
UID:29022@lexfun4kids.com
DTSTART;TZID=America/Kentucky/Louisville:20260314T150000
DTEND;TZID=America/Kentucky/Louisville:20260314T160000
DTSTAMP:20260221T223442Z
URL:https://lexfun4kids.com/events/nature-bookmarks-and-magnets-031426/
SUMMARY:Nature Bookmarks and Magnets
DESCRIPTION:Join McConnell Springs Staff to make nature inspired bookmarks 
 and magnets! This program will use found natural objects and dried plants 
 and flowers. Intended for youth 7 – 13\, must be accompanied by an adult
 . Registration is required. $8 per participant.\nMarch 14\, 2026 3 pm $8
CATEGORIES:$10 or Less,Advance Registration,Age
 Range,Arts,Elementary,Indoor Activity,Teens
LOCATION:McConnell Springs\, 416 Rebmann Lane\, Lexington\, KY\, 40504\, Un
 ited States
GEO:38.054999;-84.52783
X-APPLE-STRUCTURED-LOCATION;VALUE=URI;X-ADDRESS=416 Rebmann Lane\, Lexingto
 n\, KY\, 40504\, United States;X-APPLE-RADIUS=100;X-TITLE=McConnell Spring
 s:geo:38.054999,-84.52783
END:VEVENT
BEGIN:VTIMEZONE
TZID:America/Kentucky/Louisville
X-LIC-LOCATION:America/Kentucky/Louisville
BEGIN:DAYLIGHT
DTSTART:20260308T030000
TZOFFSETFROM:-0500
TZOFFSETTO:-0400
TZNAME:EDT
END:DAYLIGHT
END:VTIMEZONE
END:VCALENDAR