BEGIN:VCALENDAR
VERSION:2.0
PRODID:-//wp-events-plugin.com//6.6.4.4//EN
TZID:America/Kentucky/Louisville
X-WR-TIMEZONE:America/Kentucky/Louisville
BEGIN:VEVENT
UID:29189@lexfun4kids.com
DTSTART;TZID=America/Kentucky/Louisville:20260328T120000
DTEND;TZID=America/Kentucky/Louisville:20260328T140000
DTSTAMP:20260324T123140Z
URL:https://lexfun4kids.com/events/meet-the-easter-bunny-032826/
SUMMARY:Meet the Easter Bunny
DESCRIPTION:\nVisit the Easter Bunny on Saturday\, March 28th from 12 PM - 
 2 PM at Pomegranate\, Inc. \n\n\n\nRemember to bring your own camera or p
 hone to capture the special moment with the Easter Bunny!\n\n\nLearn how t
 o decoupage Easter eggs and enjoy lunch at Penny's when you visit the East
 er Bunny! Penny's is open from 10 AM - 2 PM on Saturdays!\n\n\nParking on 
 Clay Ave and near Woodland Park.\n\n\nFree Event!\n
CATEGORIES:Age Range,Arts,Babies,Easter
 Bunny,Elementary,Free,Holidays,Outdoor
 Activity,Parents,Preschoolers,Teens,Toddlers
LOCATION:Pomegranate\, 104 Clay Avenue\, Lexington\, KY\, 40502\, United St
 ates
GEO:38.035878;-84.485664
X-APPLE-STRUCTURED-LOCATION;VALUE=URI;X-ADDRESS=104 Clay Avenue\, Lexington
 \, KY\, 40502\, United States;X-APPLE-RADIUS=100;X-TITLE=Pomegranate:geo:3
 8.035878,-84.485664
END:VEVENT
BEGIN:VTIMEZONE
TZID:America/Kentucky/Louisville
X-LIC-LOCATION:America/Kentucky/Louisville
BEGIN:DAYLIGHT
DTSTART:20260308T030000
TZOFFSETFROM:-0500
TZOFFSETTO:-0400
TZNAME:EDT
END:DAYLIGHT
END:VTIMEZONE
END:VCALENDAR