BEGIN:VCALENDAR
VERSION:2.0
PRODID:-//wp-events-plugin.com//6.6.4.4//EN
TZID:America/Kentucky/Louisville
X-WR-TIMEZONE:America/Kentucky/Louisville
BEGIN:VEVENT
UID:27205@lexfun4kids.com
DTSTART;TZID=America/Kentucky/Louisville:20260510T140000
DTEND;TZID=America/Kentucky/Louisville:20260510T150000
DTSTAMP:20250920T205957Z
URL:https://lexfun4kids.com/events/mariposa-butterfly-051026/
SUMMARY:Mariposa Butterfly
DESCRIPTION:\n\nMariposa Butterfly\nFamily Weekend Performance Info\n\n \n\
 nSaturday\, May 2 – 11:00am (Pay What You Will)*\nSunday\, May 3 – 2:0
 0pm (Sensory Friendly)**\nSaturday\, May 9 – 11:00am\nSunday\, May 10 
 – 2:00pm\n\n \n\nTwo neighbors live side-by-side in Texas share a fence\
 , but little else. Even the arrival of a caterpillar causes disagreement 
 – until the resulting mariposa/butterfly \, and its eventual departure\,
  unites them in wonder\, sadness\, and a new understanding of the beautifu
 l world they share.\n\n \n\nMariposa / Butterfly is a Theatre for the Very
  Young (TVY) production\, which means it’s specifically designed to be a
  first-time theatre show for ages 2-5. With a shorter run time\, fewer wor
 ds in the script\, and interactivity with the actors\, it’s the perfect 
 family outing for our littlest audience members!\n\n \n\nDon’t miss this
  beautiful story in full bloom – buy your tickets now and fly with us!\n
 \n \n\nBest enjoyed by ages 3 - 7\n\n \n\nLocation: The LCT Learning Sta
 ge\n\n \n\nLength of Show: Approximately 30 minutes long.\n\n
CATEGORIES:Advance Registration,Age Range,Elementary,Indoor
 Activity,Parents,Preschoolers,Theater,Toddlers
LOCATION:Lexington Children's Theatre\, 418 W Short Street\, Lexington\, KY
 \, 40507\, United States
GEO:38.049737;-84.4998094
X-APPLE-STRUCTURED-LOCATION;VALUE=URI;X-ADDRESS=418 W Short Street\, Lexing
 ton\, KY\, 40507\, United States;X-APPLE-RADIUS=100;X-TITLE=Lexington Chil
 dren's Theatre:geo:38.049737,-84.4998094
END:VEVENT
BEGIN:VTIMEZONE
TZID:America/Kentucky/Louisville
X-LIC-LOCATION:America/Kentucky/Louisville
BEGIN:DAYLIGHT
DTSTART:20260308T030000
TZOFFSETFROM:-0500
TZOFFSETTO:-0400
TZNAME:EDT
END:DAYLIGHT
END:VTIMEZONE
END:VCALENDAR