BEGIN:VCALENDAR
VERSION:2.0
PRODID:-//wp-events-plugin.com//6.6.4.4//EN
TZID:America/Kentucky/Louisville
X-WR-TIMEZONE:America/Kentucky/Louisville
BEGIN:VEVENT
UID:17583@lexfun4kids.com
DTSTART;TZID=America/Kentucky/Louisville:20210605T110000
DTEND;TZID=America/Kentucky/Louisville:20210605T130000
DTSTAMP:20210526T184320Z
URL:https://lexfun4kids.com/events/lunch-in-the-park-hosted-by-lexcity-chu
 rch/
SUMMARY:Lunch in the Park hosted by LexCity Church
DESCRIPTION:Saturday\, June 5\, 2021 from 11: a.m. – 1 p.m.\nAll ages\nFR
 EE\nShillito Park Shelter #3\nFor more information contact\nJulie McFarlan
 d\njmcfarland@lexcity.church\nWe'll provide lunch and some fun activities.
  You bring a smile\, or two! Invite friends\, meet new friends or enjoy ol
 d ones. Let's celebrate all that summer has to offer for Lexington! *Be su
 re to sign up so we have enough food and drinks for all!
CATEGORIES:Advance Registration,Age Range,Elementary,Food,Free,Outdoor
 Activity,Parents,Preschoolers,Teens,Toddlers
LOCATION:Shillito Park\, 300 W Reynolds Rd\, Lexington\, KY\, 40503\, Unite
 d States
GEO:37.993418;-84.530867
X-APPLE-STRUCTURED-LOCATION;VALUE=URI;X-ADDRESS=300 W Reynolds Rd\, Lexingt
 on\, KY\, 40503\, United States;X-APPLE-RADIUS=100;X-TITLE=Shillito Park:g
 eo:37.993418,-84.530867
END:VEVENT
BEGIN:VTIMEZONE
TZID:America/Kentucky/Louisville
X-LIC-LOCATION:America/Kentucky/Louisville
BEGIN:DAYLIGHT
DTSTART:20210314T030000
TZOFFSETFROM:-0500
TZOFFSETTO:-0400
TZNAME:EDT
END:DAYLIGHT
END:VTIMEZONE
END:VCALENDAR