BEGIN:VCALENDAR
VERSION:2.0
PRODID:-//wp-events-plugin.com//6.6.4.4//EN
TZID:America/Kentucky/Louisville
X-WR-TIMEZONE:America/Kentucky/Louisville
BEGIN:VEVENT
UID:28020@lexfun4kids.com
DTSTART;TZID=America/Kentucky/Louisville:20260221T160000
DTEND;TZID=America/Kentucky/Louisville:20260221T190000
DTSTAMP:20260102T223548Z
URL:https://lexfun4kids.com/events/little-sweetheart-dance-0221254/
SUMMARY:Little Sweetheart Dance
DESCRIPTION:Join us for an evening of dancing\, music\, and food at The Ken
 tucky Castle!\n\n\n\n\n\n\nJoin us for an evening of dancing\, music\, and
  food at The Kentucky Castle!\n\nThis event is open to all children from p
 re-school through 8th grade. Our guests of honor may be escorted by any ad
 ult in their life who wants to join their prince or princess.\n\nA night a
 ll are sure to remember will include a buffet curated for both kids and ad
 ults\, dancing\, a DJ\, a princess tiara or a prince's crown\, a photo boo
 th\, and LOTS OF FUN! There will also be a cash bar for the adults.\n\n* E
 ach person attending must have a ticket.\n\nMENU: TBA\n\n*****************
 *************************************************\n\n* If you would like t
 o bring a child who is under 3 yrs old\, please email experiences@thekentu
 ckycastle.com for information.\n\n* Guests will be seated together to fill
  tables of 8. If you would like to be seated with friends who purchased ti
 ckets separately\, please note that when purchasing tickets.\n\n* Menu sub
 ject to change.\n\n* Tickets are non-refundable.\n\nAdditional Option: To 
 make a reservation for our boutique hotel or spa\, please call (859) 256-0
 322 or visit thekentuckycastle.com\n\n\n\n\n\n
CATEGORIES:Advance Registration,Age
 Range,Dance,Elementary,Food,Holidays,Indoor
 Activity,Preschoolers,Valentine's Day
LOCATION:The Kentucky Castle\, 230 Pisgah Pike\, Versailles\, KY\, 40383\, 
 United States
GEO:38.046733;-84.652858
X-APPLE-STRUCTURED-LOCATION;VALUE=URI;X-ADDRESS=230 Pisgah Pike\, Versaille
 s\, KY\, 40383\, United States;X-APPLE-RADIUS=100;X-TITLE=The Kentucky Cas
 tle:geo:38.046733,-84.652858
END:VEVENT
BEGIN:VTIMEZONE
TZID:America/Kentucky/Louisville
X-LIC-LOCATION:America/Kentucky/Louisville
BEGIN:STANDARD
DTSTART:20251102T010000
TZOFFSETFROM:-0400
TZOFFSETTO:-0500
TZNAME:EST
END:STANDARD
END:VTIMEZONE
END:VCALENDAR