BEGIN:VCALENDAR
VERSION:2.0
PRODID:-//wp-events-plugin.com//6.6.4.4//EN
TZID:America/Kentucky/Louisville
X-WR-TIMEZONE:America/Kentucky/Louisville
BEGIN:VEVENT
UID:28865@lexfun4kids.com
DTSTART;TZID=America/Kentucky/Louisville:20260304T110000
DTEND;TZID=America/Kentucky/Louisville:20260304T114500
DTSTAMP:20260204T013549Z
URL:https://lexfun4kids.com/events/little-sprouts-welcome-to-weather-03042
 6/
SUMMARY:Little Sprouts - Welcome to Weather
DESCRIPTION:Two sessions are offered each Wednesday: 10-10:45am and 11-11:4
 5am. Each session has a special theme that begins with a story and hands-o
 n exploration. Next\, we will rotate through crafts\, science experiments\
 , and planting stations. Last\, we will go outside and explore nature on a
  short hike (weather permitting).\n\nAges: 3-5 years old\n\nCost: $5 per c
 hild per session\n\nPre-registration required: Call (859) 257-6955 or emai
 l arboretum@uky.edu for more information and to register for the event.\n\
 n&nbsp\;\n\nThemes for 2026\n\nMarch 4: Welcome to Weather\n\nMarch 11: Tr
 ees All Year Long\n\nMarch 18: Busy Birds\n\nMarch 25: Get Ready to Garden
CATEGORIES:$5 or Less,Advance Registration,Age Range,Indoor
 Activity,Preschoolers
LOCATION:The Arboretum\, State Botanical Garden of Kentucky\, 500 Alumni Dr
 ive\, Lexington\, KY\, 40503\, United States
GEO:38.0191109;-84.50826430000001
X-APPLE-STRUCTURED-LOCATION;VALUE=URI;X-ADDRESS=500 Alumni Drive\, Lexingto
 n\, KY\, 40503\, United States;X-APPLE-RADIUS=100;X-TITLE=The Arboretum\, 
 State Botanical Garden of Kentucky:geo:38.0191109,-84.50826430000001
END:VEVENT
BEGIN:VTIMEZONE
TZID:America/Kentucky/Louisville
X-LIC-LOCATION:America/Kentucky/Louisville
BEGIN:STANDARD
DTSTART:20251102T010000
TZOFFSETFROM:-0400
TZOFFSETTO:-0500
TZNAME:EST
END:STANDARD
END:VTIMEZONE
END:VCALENDAR