BEGIN:VCALENDAR
VERSION:2.0
PRODID:-//wp-events-plugin.com//6.6.4.4//EN
TZID:America/Kentucky/Louisville
X-WR-TIMEZONE:America/Kentucky/Louisville
BEGIN:VEVENT
UID:28019@lexfun4kids.com
DTSTART;TZID=America/Kentucky/Louisville:20260222T100000
DTEND;TZID=America/Kentucky/Louisville:20260222T170000
DTSTAMP:20260221T215800Z
URL:https://lexfun4kids.com/events/ky-sport-boat-and-recreation-show-02222
 6/
SUMMARY:KY Sport\, Boat and Recreation Show
DESCRIPTION:\nKentucky’s Premiere Outdoor Event features the best in prem
 ium outdoor inventory from the area’s top vendors. For over 40 years the
  WKYT Kentucky Sport\, Boat\, and Recreation show has brought you the best
  in boating and outdoor experiences! Thursday: 2 PM – 8 PM Friday: 10 AM
  – 8 PM Saturday: 10 AM – 8 PM Sunday: 10 AM – 5 PM\n\n\n\nTicket Pr
 ices:\n\n\n\nAdults: $12 | Kids 12 &amp\; under: FREE\n\n\n\nSenior Night 
 is Thursday night (60yrs+) $10.00\n\n\n\nFriday Night is Military &amp\; 
 First Responder with ID (Active &amp\; Retired\; service member only/famil
 y full price) $10.00\n\n\n\n\n\nShake off the cabin fever and enjoy 100\,
 000 square feet of exhibitors that include boats\, RV’s\, other great ou
 tdoor products and gear\, exclusive deals\, and entertainment that include
 s fishing\, live music\, cooking demonstrations\, and much more!\n\n\n\nMy
  boys and I had a great time the last few years!  There are always lots o
 f great things for kids to do at the show - past events have included free
  pony rides\, fishing\, inflatables\, and more!  There are fun fishing de
 monstrations by the pros\, lots of cool things to pretend to ride\, and lo
 ads of RVs to step inside!  Each year there are new things to see and do.
   Check out a few of our pics from over the years!\n\n\n\n\n\nSpecial KID
  ZONE! The kids zone will feature Hillview Farm Mobile Petting Zoo\, game
 s\, photo booth and more!\n\n\n\nKids Zone Times:\n\n\n\nFriday – 5-7 pm
  Saturday – 1-4 pm Sunday – 11 am -1 pm\n
ATTACH;FMTTYPE=image/jpeg:https://lexfun4kids.com/wp-content/uploads/2025/
 12/311196661_1956811191189970_1772648988740704180_n-300x300-1.jpg
CATEGORIES:$10 or Less,Age Range,Babies,Display Image,Elementary,Indoor
 Activity,Lex Fun 4 Kids Listing Type,Parents,Preschoolers,Sponsored
 Events,Teens,Toddlers
LOCATION:Central Bank Center\, 430 West Vine Street\, Lexington\, KY\, 4050
 7\, United States
GEO:38.049322;-84.502391
X-APPLE-STRUCTURED-LOCATION;VALUE=URI;X-ADDRESS=430 West Vine Street\, Lexi
 ngton\, KY\, 40507\, United States;X-APPLE-RADIUS=100;X-TITLE=Central Bank
  Center:geo:38.049322,-84.502391
END:VEVENT
BEGIN:VTIMEZONE
TZID:America/Kentucky/Louisville
X-LIC-LOCATION:America/Kentucky/Louisville
BEGIN:STANDARD
DTSTART:20251102T010000
TZOFFSETFROM:-0400
TZOFFSETTO:-0500
TZNAME:EST
END:STANDARD
END:VTIMEZONE
END:VCALENDAR