BEGIN:VCALENDAR
VERSION:2.0
PRODID:-//wp-events-plugin.com//6.6.4.4//EN
TZID:America/Kentucky/Louisville
X-WR-TIMEZONE:America/Kentucky/Louisville
BEGIN:VEVENT
UID:28023@lexfun4kids.com
DTSTART;TZID=America/Kentucky/Louisville:20260103T110000
DTEND;TZID=America/Kentucky/Louisville:20260103T120000
DTSTAMP:20260102T224335Z
URL:https://lexfun4kids.com/events/kidz-bop-live-the-concert-movie-010326/
SUMMARY:Kidz Bop Live: The Concert Movie
DESCRIPTION:Join the KIDZ BOP Kids for a larger-than-life concert adventure
  featuring today’s biggest hits\, including “APT.\,” “Pink Pony Cl
 ub\,” and more. Get ready to sing\, dance\, and celebrate together as 
 the theatre turns into your family’s very own dance floor. Experience al
 l the fun of the KIDZ BOP LIVE tour on the big screen\, plus exclusive beh
 ind-the-scenes moments you won’t see anywhere else.  
CATEGORIES:Age Range,Elementary,Indoor
 Activity,Movie,Music,Parents,Preschoolers,Teens
LOCATION:Regal Cinemas Hamburg\, 1949 Star Shoot Parkway\, Lexington\, KY\,
  40509\, United States
GEO:38.0253495;-84.42038500000001
X-APPLE-STRUCTURED-LOCATION;VALUE=URI;X-ADDRESS=1949 Star Shoot Parkway\, L
 exington\, KY\, 40509\, United States;X-APPLE-RADIUS=100;X-TITLE=Regal Cin
 emas Hamburg:geo:38.0253495,-84.42038500000001
END:VEVENT
BEGIN:VTIMEZONE
TZID:America/Kentucky/Louisville
X-LIC-LOCATION:America/Kentucky/Louisville
BEGIN:STANDARD
DTSTART:20251102T010000
TZOFFSETFROM:-0400
TZOFFSETTO:-0500
TZNAME:EST
END:STANDARD
END:VTIMEZONE
END:VCALENDAR