BEGIN:VCALENDAR
VERSION:2.0
PRODID:-//wp-events-plugin.com//6.6.4.4//EN
TZID:America/Kentucky/Louisville
X-WR-TIMEZONE:America/Kentucky/Louisville
BEGIN:VEVENT
UID:29348@lexfun4kids.com
DTSTART;TZID=America/Kentucky/Louisville:20260530T100000
DTEND;TZID=America/Kentucky/Louisville:20260530T113000
DTSTAMP:20260418T212741Z
URL:https://lexfun4kids.com/events/junior-naturalist-frogs-and-toads-05302
 6/
SUMMARY:Junior Naturalist - Frogs and Toads
DESCRIPTION:May- Jr. Naturalist: Frogs &amp\; Toads (10am-11:30am). Join us
  to learn all about frogs and toads at Raven Run Nature Sanctuary! We will
  be learning about the life cycles and behaviors of these special creature
 s. Join us to walk around and investigate our pond\; make a fun craft\; an
 d meet our special guest - Color the Toad - who will be joining us this mo
 nth. K-5th grade. Registration is required. All children must have an atte
 nding adult. Please register all adults and children attending. Dress for 
 the weather. If you have issues registering or have questions\, please cal
 l Raven Run at (859) 272-6105.\nMay 30\, 2026 10 am - 11:30 am FREE
CATEGORIES:Advance Registration,Age Range,Elementary,Free,Outdoor Activity
LOCATION:Raven Run\, 3885 Raven Run Way\, Lexington\, KY\, 40515\, United S
 tates
GEO:37.88843200000001;-84.39842909999999
X-APPLE-STRUCTURED-LOCATION;VALUE=URI;X-ADDRESS=3885 Raven Run Way\, Lexing
 ton\, KY\, 40515\, United States;X-APPLE-RADIUS=100;X-TITLE=Raven Run:geo:
 37.88843200000001,-84.39842909999999
END:VEVENT
BEGIN:VTIMEZONE
TZID:America/Kentucky/Louisville
X-LIC-LOCATION:America/Kentucky/Louisville
BEGIN:DAYLIGHT
DTSTART:20260308T030000
TZOFFSETFROM:-0500
TZOFFSETTO:-0400
TZNAME:EDT
END:DAYLIGHT
END:VTIMEZONE
END:VCALENDAR