BEGIN:VCALENDAR
VERSION:2.0
PRODID:-//wp-events-plugin.com//6.6.4.4//EN
TZID:America/Kentucky/Louisville
X-WR-TIMEZONE:America/Kentucky/Louisville
BEGIN:VEVENT
UID:17324@lexfun4kids.com
DTSTART;TZID=America/Kentucky/Louisville:20201212T170000
DTEND;TZID=America/Kentucky/Louisville:20201212T200000
DTSTAMP:20201109T170437Z
URL:https://lexfun4kids.com/events/illuminated-evenings-at-shaker-village-
 2/
SUMMARY:Illuminated Evenings at Shaker Village
DESCRIPTION:Every Saturday in December until Christmas! \n\nDuring the hol
 iday season\, Shaker Village will bustle with light-hearted moments that r
 emind us of long-ago winter days filled with wonder and laughter. Make tim
 e to delight in life’s simple gifts with family and friends\, as lively 
 music\, merriment and candlelight illuminate the Village.\n\nIn addition t
 o our regular Holiday festivities\, Illuminated Evenings will feature holi
 day music\, roaring fires\, twinkling lights and an appearance by Mrs. Cla
 us! December 5\, 12\, and 19 will feature different performers\, programs 
 and tours.\n\nDonations – Donations of new gloves\, hats\, scarves and 
 non-perishable food for the Shaker Village Giving Tree are encouraged in p
 lace of regular $5 admission\, and will be given to local families in need
 .\n\nThe Shops Extended Hours – The shops have been filled to the brim 
 with new merchandise brought in to celebrate the holiday season.\n\nThe El
 f Shop – Create a unique holiday craft using one-use materials\, and wr
 ite your own letter to Santa.\n\nBonfires &amp\; Hot Chocolate Stations 
 – Warm up around our fire pits and enjoy delicious complimentary hot cho
 colate and spiced cider.\n\nSpecial Holiday Music – Enjoy special perfo
 rmances from regional musicians throughout the Village.
LOCATION:Shaker Village of Pleasant Hill\, 3501 Lexington Road\, Harrodsbur
 g\, KY\, 40330\, United States
GEO:37.81674599999999;-84.74060480000003
X-APPLE-STRUCTURED-LOCATION;VALUE=URI;X-ADDRESS=3501 Lexington Road\, Harro
 dsburg\, KY\, 40330\, United States;X-APPLE-RADIUS=100;X-TITLE=Shaker Vill
 age of Pleasant Hill:geo:37.81674599999999,-84.74060480000003
END:VEVENT
BEGIN:VTIMEZONE
TZID:America/Kentucky/Louisville
X-LIC-LOCATION:America/Kentucky/Louisville
BEGIN:STANDARD
DTSTART:20201101T010000
TZOFFSETFROM:-0400
TZOFFSETTO:-0500
TZNAME:EST
END:STANDARD
END:VTIMEZONE
END:VCALENDAR