BEGIN:VCALENDAR
VERSION:2.0
PRODID:-//wp-events-plugin.com//6.6.4.4//EN
TZID:America/Kentucky/Louisville
X-WR-TIMEZONE:America/Kentucky/Louisville
BEGIN:VEVENT
UID:29191@lexfun4kids.com
DTSTART;TZID=America/Kentucky/Louisville:20260328T100000
DTEND;TZID=America/Kentucky/Louisville:20260328T120000
DTSTAMP:20260326T135345Z
URL:https://lexfun4kids.com/events/gtky-easter-egg-hunt/
SUMMARY:GTKY Easter Egg Hunt
DESCRIPTION:Greater Kentucky Credit Union (GTKY) will host its Community Eg
 g Hunt on Saturday\, March 28\, 2026\, from 10:00 AM to 12:00 PM at 1001 R
 ed Mile Road in Lexington\, inviting families from across the community to
  enjoy a morning of springtime fun and activities.\n\nThe event will featu
 re a free Easter egg hunt [Ages 0-2 (10:15am)\, Ages 3-5 (10:30am)\, Ages 
 6-9 (10:45am)] with special Golden Egg prizes\, giving children the chance
  to search for eggs and win surprise rewards. Families will also have the 
 opportunity to take photos with the Easter Bunny\, explore a fire truck on
 -site\, and meet foster dogs available for adoption.\n\nBring your own Eas
 ter egg basket. In addition to the activities\, attendees can enjoy hot do
 gs\, chips\, dessert\, and drinks while supplies last\, along with music a
 nd other family-friendly activities throughout the event. This event is fr
 ee and open to the public\, and families are encouraged to arrive early to
  participate in the egg hunt and activities. No registration required. Fol
 low Facebook (Greater Kentucky Credit Union) and Instagram (gtkycu) for up
 dates and additional information!
CATEGORIES:Age Range,Babies,Easter,Easter Bunny,Egg
 Hunt,Elementary,Free,Holidays,Outdoor
 Activity,Parents,Preschoolers,Teens,Toddlers
LOCATION:Greater Lexington Credit Union\, 1001 Red Mile Road\, Lexington\, 
 KY\, 40504\, United States
GEO:38.039867;-84.523398
X-APPLE-STRUCTURED-LOCATION;VALUE=URI;X-ADDRESS=1001 Red Mile Road\, Lexing
 ton\, KY\, 40504\, United States;X-APPLE-RADIUS=100;X-TITLE=Greater Lexing
 ton Credit Union:geo:38.039867,-84.523398
END:VEVENT
BEGIN:VTIMEZONE
TZID:America/Kentucky/Louisville
X-LIC-LOCATION:America/Kentucky/Louisville
BEGIN:DAYLIGHT
DTSTART:20260308T030000
TZOFFSETFROM:-0500
TZOFFSETTO:-0400
TZNAME:EDT
END:DAYLIGHT
END:VTIMEZONE
END:VCALENDAR