BEGIN:VCALENDAR
VERSION:2.0
PRODID:-//wp-events-plugin.com//6.6.4.4//EN
TZID:America/Kentucky/Louisville
X-WR-TIMEZONE:America/Kentucky/Louisville
BEGIN:VEVENT
UID:29350@lexfun4kids.com
DTSTART;TZID=America/Kentucky/Louisville:20260523T130000
DTEND;TZID=America/Kentucky/Louisville:20260523T143000
DTSTAMP:20260418T213039Z
URL:https://lexfun4kids.com/events/fungi-foray-052326/
SUMMARY:Fungi Foray
DESCRIPTION:Join us to learn about all about fungi at Raven Run Nature Sanc
 tuary! Featuring special guests: Bluegrass Mycological Society. Program wi
 ll focus on identification\; the importance of these amazing organisms in 
 our ecosystems\; and other topics of interest to participants. Program is 
 recommended for adults and ages 8+ but all ages welcome. Hiking route will
  be slow paced over 1.5-2 miles of moderately difficult terrain with some 
 elevation changes. Please wear close-toed shoes and bring water and tick p
 rotection. Registration is required. Please register all guests attending.
  If you have issues with registration\, please call the Nature Center at (
 859) 272-6105.\nMay 23\, 2026 1 - 2:30 pm FREE
CATEGORIES:Advance Registration,Age Range,Elementary,Free,Outdoor
 Activity,Parents,Preschoolers,Teens,Toddlers
LOCATION:Raven Run\, 3885 Raven Run Way\, Lexington\, KY\, 40515\, United S
 tates
GEO:37.88843200000001;-84.39842909999999
X-APPLE-STRUCTURED-LOCATION;VALUE=URI;X-ADDRESS=3885 Raven Run Way\, Lexing
 ton\, KY\, 40515\, United States;X-APPLE-RADIUS=100;X-TITLE=Raven Run:geo:
 37.88843200000001,-84.39842909999999
END:VEVENT
BEGIN:VTIMEZONE
TZID:America/Kentucky/Louisville
X-LIC-LOCATION:America/Kentucky/Louisville
BEGIN:DAYLIGHT
DTSTART:20260308T030000
TZOFFSETFROM:-0500
TZOFFSETTO:-0400
TZNAME:EDT
END:DAYLIGHT
END:VTIMEZONE
END:VCALENDAR