BEGIN:VCALENDAR
VERSION:2.0
PRODID:-//wp-events-plugin.com//6.6.4.4//EN
TZID:America/Kentucky/Louisville
X-WR-TIMEZONE:America/Kentucky/Louisville
BEGIN:VEVENT
UID:17584@lexfun4kids.com
DTSTART;TZID=America/Kentucky/Louisville:20210717T130000
DTEND;TZID=America/Kentucky/Louisville:20210717T160000
DTSTAMP:20210526T184717Z
URL:https://lexfun4kids.com/events/for-lexington-scavenger-hunt-hosted-by-
 lexcity-church/
SUMMARY:For Lexington Scavenger Hunt hosted by LexCity Church
DESCRIPTION:All ages\nFREE\nFor more information contact\nJulie McFarland\n
 jmcfarland@lexcity.church\nFREE Memory making fun for all ages! Choose you
 r own adventure as your team/family jaunts around Lexington solving riddle
 s\, racking up points\, and even doing some good deeds together. The hunt 
 begins at LexCity Church and goes wherever you want it to go! Time is of t
 he essence as you\nthink\, laugh\, and work together to compete for AMAZIN
 G prizes before returning to home base to see who wins!
CATEGORIES:Age Range,Babies,Elementary,Free,Outdoor
 Activity,Parents,Preschoolers,Teens,Toddlers
LOCATION:LexCity Church\, 410 Sporting Ct #3560\, Lexington\, KY\, 40503\, 
 United States
GEO:37.999094;-84.533981
X-APPLE-STRUCTURED-LOCATION;VALUE=URI;X-ADDRESS=410 Sporting Ct #3560\, Lex
 ington\, KY\, 40503\, United States;X-APPLE-RADIUS=100;X-TITLE=LexCity Chu
 rch:geo:37.999094,-84.533981
END:VEVENT
BEGIN:VTIMEZONE
TZID:America/Kentucky/Louisville
X-LIC-LOCATION:America/Kentucky/Louisville
BEGIN:DAYLIGHT
DTSTART:20210314T030000
TZOFFSETFROM:-0500
TZOFFSETTO:-0400
TZNAME:EDT
END:DAYLIGHT
END:VTIMEZONE
END:VCALENDAR