BEGIN:VCALENDAR
VERSION:2.0
PRODID:-//wp-events-plugin.com//6.6.4.4//EN
TZID:America/Kentucky/Louisville
X-WR-TIMEZONE:America/Kentucky/Louisville
BEGIN:VEVENT
UID:17692@lexfun4kids.com
DTSTART;TZID=America/Kentucky/Louisville:20210619T090000
DTEND;TZID=America/Kentucky/Louisville:20210619T140000
DTSTAMP:20210609T191238Z
URL:https://lexfun4kids.com/events/fathers-day-family-celebration/
SUMMARY:Father's Day Family Celebration
DESCRIPTION:\nJoin us Saturday\, June 19th as we celebrate fathers and fami
 lies!\n\n\n9:00AM-10:00AM:\nMen's Prayer Breakfast on the Lawn at First Af
 rican MBC - 465 Price Rd\n\n\n10:30AM-11:00AM:\nFather-Family Community Ma
 rch - From First African MBC to Douglass Park\n\n\n11:00AM-2:00PM\nFamily 
 Celebration at Douglass Park! Food\, music\, fun\, community resource "vil
 lage"\, father/family photos\, prize give-aways\, and more!\n\n\n*Believin
 g in Forever's "Community on the Corners" will be live at the park from 12
 :30PM-2PM!!\n\n\n*Health-First Bluegrass will also be onsite offering free
  COVID-19 Vaccines!\n
CATEGORIES:Age Range,Babies,Elementary,Food,Free,Music,Outdoor
 Activity,Parents,Preschoolers,Teens,Toddlers
LOCATION:Douglass Park\, 726 Georgetown Street\, Lexington\, KY\, 40508\, U
 nited States
GEO:38.068558;-84.502293
X-APPLE-STRUCTURED-LOCATION;VALUE=URI;X-ADDRESS=726 Georgetown Street\, Lex
 ington\, KY\, 40508\, United States;X-APPLE-RADIUS=100;X-TITLE=Douglass Pa
 rk:geo:38.068558,-84.502293
END:VEVENT
BEGIN:VTIMEZONE
TZID:America/Kentucky/Louisville
X-LIC-LOCATION:America/Kentucky/Louisville
BEGIN:DAYLIGHT
DTSTART:20210314T030000
TZOFFSETFROM:-0500
TZOFFSETTO:-0400
TZNAME:EDT
END:DAYLIGHT
END:VTIMEZONE
END:VCALENDAR