BEGIN:VCALENDAR
VERSION:2.0
PRODID:-//wp-events-plugin.com//6.6.4.4//EN
TZID:America/Kentucky/Louisville
X-WR-TIMEZONE:America/Kentucky/Louisville
BEGIN:VEVENT
UID:25250@lexfun4kids.com
DTSTART;TZID=America/Kentucky/Louisville:20241113T170000
DTEND;TZID=America/Kentucky/Louisville:20241113T190000
DTSTAMP:20241112T174212Z
URL:https://lexfun4kids.com/events/family-fun-learning-night-horse-racing-
 111324/
SUMMARY:Family Fun &amp\; Learning Night: Horse Racing
DESCRIPTION:You're invited! Family Fun and Learning Night is a fantastic ni
 ght out with free dinner and activities.\n\nNov 13\, 5:00–7:00 PM\nREGIS
 TER: https://bit.ly/Nov24FFLN\n\nTheme: Horse Racing History Book: The Joc
 key and Her Horse Activities: Measuring by "hands"\, trying on real silks\
 , and creating your own silks\nPartners: Keeneland Library and Lexington H
 istory Museum\n\nThe Jockey &amp\; Her Horse is inspired by the true story
  of the first Black woman jockey\, Cheryl White\, who raced to the finish 
 line on her family’s beloved racehorse\, Jetolara\, to make history as t
 he first African American woman to ride and win a professional horse race 
 in the country.
ATTACH;FMTTYPE=image/jpeg:https://lexfun4kids.com/wp-content/uploads/2024/
 11/Fall-FFLNs-2022-700-x-700-px.jpg
CATEGORIES:Advance Registration,Age
 Range,Education,Elementary,Food,Free,Indoor
 Activity,Parents,Preschoolers,Teens
LOCATION:Carnegie Center for Literacy and Learning\, 251 W Second Street\, 
 Lexington\, KY\, 40507\, United States
GEO:38.0500523;-84.49565819999998
X-APPLE-STRUCTURED-LOCATION;VALUE=URI;X-ADDRESS=251 W Second Street\, Lexin
 gton\, KY\, 40507\, United States;X-APPLE-RADIUS=100;X-TITLE=Carnegie Cent
 er for Literacy and Learning:geo:38.0500523,-84.49565819999998
END:VEVENT
BEGIN:VTIMEZONE
TZID:America/Kentucky/Louisville
X-LIC-LOCATION:America/Kentucky/Louisville
BEGIN:STANDARD
DTSTART:20241103T010000
TZOFFSETFROM:-0400
TZOFFSETTO:-0500
TZNAME:EST
END:STANDARD
END:VTIMEZONE
END:VCALENDAR