BEGIN:VCALENDAR
VERSION:2.0
PRODID:-//wp-events-plugin.com//6.6.4.4//EN
TZID:America/Kentucky/Louisville
X-WR-TIMEZONE:America/Kentucky/Louisville
BEGIN:VEVENT
UID:25601@lexfun4kids.com
DTSTART;TZID=America/Kentucky/Louisville:20250223T140000
DTEND;TZID=America/Kentucky/Louisville:20250223T150000
DTSTAMP:20250111T205753Z
URL:https://lexfun4kids.com/events/family-activity-exploring-animal-tracks
 -022325/
SUMMARY:Family Activity: Exploring Animal Tracks
DESCRIPTION:\n\n\n\n\n\nInfo TBA Always free and open to all. Geared toward
 s kids ages 5-10.\n\n\n\n\n\n
CATEGORIES:Age Range,Elementary,Free,Outdoor
 Activity,Parents,Preschoolers,Teens
LOCATION:Berea College Forestry Outreach Center\, 2047 Big Hill Rd\, Berea\
 , KY\, 40403\, United States
GEO:37.55706;-84.250767
X-APPLE-STRUCTURED-LOCATION;VALUE=URI;X-ADDRESS=2047 Big Hill Rd\, Berea\, 
 KY\, 40403\, United States;X-APPLE-RADIUS=100;X-TITLE=Berea College Forest
 ry Outreach Center:geo:37.55706,-84.250767
END:VEVENT
BEGIN:VTIMEZONE
TZID:America/Kentucky/Louisville
X-LIC-LOCATION:America/Kentucky/Louisville
BEGIN:STANDARD
DTSTART:20241103T010000
TZOFFSETFROM:-0400
TZOFFSETTO:-0500
TZNAME:EST
END:STANDARD
END:VTIMEZONE
END:VCALENDAR