BEGIN:VCALENDAR
VERSION:2.0
PRODID:-//wp-events-plugin.com//6.6.4.4//EN
TZID:America/Kentucky/Louisville
X-WR-TIMEZONE:America/Kentucky/Louisville
BEGIN:VEVENT
UID:17290@lexfun4kids.com
DTSTART;TZID=America/Kentucky/Louisville:20201114T110000
DTEND;TZID=America/Kentucky/Louisville:20201114T140000
DTSTAMP:20201108T000930Z
URL:https://lexfun4kids.com/events/elk-lick-valley-exploration-hikes/
SUMMARY:Elk Lick Valley Exploration Hikes
DESCRIPTION:Floracliff Nature Sanctuary - Meeting location will be emailed 
 to all attendees\n\nJoin us for a hike through the woods to the creek. One
  hike will head to Elk Lick Falls and feature the oldest documented chinka
 pin oak in Kentucky. The other hike will feature Elk Lick Creek\, the hear
 t of the sanctuary. We’ll spend about 30 - 45 minutes exploring and obse
 rving the surprises of Elk Lick Creek or Falls Branch. Use your smartphone
  or digital camera to share your observations on iNaturalist\, or forget t
 he technology and just enjoy the sights.\n\nGet Tickets 
CATEGORIES:$10 or Less,Advance Registration,Age Range,Elementary,Outdoor
 Activity,Parents,Teens
LOCATION:Floracliff Nature Sanctuary\, 8000 Elk Lick Falls Road\, Lexington
 \, KY\, 40515\, United States
GEO:37.90278;-84.359753
X-APPLE-STRUCTURED-LOCATION;VALUE=URI;X-ADDRESS=8000 Elk Lick Falls Road\, 
 Lexington\, KY\, 40515\, United States;X-APPLE-RADIUS=100;X-TITLE=Floracli
 ff Nature Sanctuary:geo:37.90278,-84.359753
END:VEVENT
BEGIN:VTIMEZONE
TZID:America/Kentucky/Louisville
X-LIC-LOCATION:America/Kentucky/Louisville
BEGIN:STANDARD
DTSTART:20201101T010000
TZOFFSETFROM:-0400
TZOFFSETTO:-0500
TZNAME:EST
END:STANDARD
END:VTIMEZONE
END:VCALENDAR