BEGIN:VCALENDAR
VERSION:2.0
PRODID:-//wp-events-plugin.com//6.6.4.4//EN
TZID:America/Kentucky/Louisville
X-WR-TIMEZONE:America/Kentucky/Louisville
BEGIN:VEVENT
UID:17585@lexfun4kids.com
DTSTART;TZID=America/Kentucky/Louisville:20210806T200000
DTEND;TZID=America/Kentucky/Louisville:20210806T234500
DTSTAMP:20210805T152257Z
URL:https://lexfun4kids.com/events/drive-in-movie-night-hosted-by-lexcity-
 church/
SUMMARY:Drive In Movie Night hosted by LexCity Church
DESCRIPTION:We are so excited to offer this FREE Drive-In Movie night for
  Lexington!\n\nCome on out and enjoy a double feature! Or\, enjoy just one
 .\nGiant screen\, beautiful evening sky\, movie snacks and outdoor\, summe
 r fun\; what's not to like? *Movie snacks available for purchase/or bring
  your own.\n\nEarly Movie | Space Jam: A New Legacy\nLate Movie | Princess
  Bride
CATEGORIES:Age Range,Babies,Elementary,Free,Movie,Outdoor
 Activity,Parents,Preschoolers,Teens,Toddlers
LOCATION:LexCity Church\, 410 Sporting Ct #3560\, Lexington\, KY\, 40503\, 
 United States
GEO:37.999094;-84.533981
X-APPLE-STRUCTURED-LOCATION;VALUE=URI;X-ADDRESS=410 Sporting Ct #3560\, Lex
 ington\, KY\, 40503\, United States;X-APPLE-RADIUS=100;X-TITLE=LexCity Chu
 rch:geo:37.999094,-84.533981
END:VEVENT
BEGIN:VTIMEZONE
TZID:America/Kentucky/Louisville
X-LIC-LOCATION:America/Kentucky/Louisville
BEGIN:DAYLIGHT
DTSTART:20210314T030000
TZOFFSETFROM:-0500
TZOFFSETTO:-0400
TZNAME:EDT
END:DAYLIGHT
END:VTIMEZONE
END:VCALENDAR