BEGIN:VCALENDAR
VERSION:2.0
PRODID:-//wp-events-plugin.com//6.6.4.4//EN
TZID:America/Kentucky/Louisville
X-WR-TIMEZONE:America/Kentucky/Louisville
BEGIN:VEVENT
UID:28840@lexfun4kids.com
DTSTART;TZID=America/Kentucky/Louisville:20260210T183000
DTEND;TZID=America/Kentucky/Louisville:20260210T203000
DTSTAMP:20260107T005649Z
URL:https://lexfun4kids.com/events/dog-man-the-musical/
SUMMARY:Dog Man the Musical
DESCRIPTION:The New York Times Critics’ Pick Dog Man: The Musical\, ba
 sed on the best-selling book series by Dav Pilkey\, makes its return to t
 he Lexington Opera House stage on Tuesday\, February 10\, 2026. Learn
  more about the new touring production at www.DogManTheMusical.com.\n“D
 og Man: The Musical surpasses my highest expectations. It is the ‘perfe
 ct mash-up’ of memorable music\, humor\, and love\,” shares author/ill
 ustrator Pilkey\, who also created the popular series Captain Underpants
  and Cat Kid Comic Club.\nDog Man: The Musical is a hilarious and hear
 twarming production following the chronicles of Dog Man. With the head of 
 a dog and the body of a policeman\, Dog Man loves to fight crime and chew 
 on the furniture. But while trying his best to be a good boy\, can he save
  the city from Flippy the cyborg fish and his army of Beasty Buildings? Ca
 n he catch Petey\, the world’s most evil cat\, who has cloned himself to
  exact revenge on the doggy do-gooder? And will George and Harold finish t
 heir show before lunchtime?\nDog Man: The Musical features book and lyri
 cs by Kevin Del Aguila (two-time Emmy Award-winning writer of the PBS sh
 ow Peg + Cat)\; music by Brad Alexander (Drama Desk-nominated See Rock
  City &amp\; Other Destinations)\; and original direction and choreography
  by Jen Wineman (NY: Less Than 50%).\nDog Man: The Musical premiered o
 ff-Broadway in June 2019 at the Lucille Lortel Theatre\, extending due to 
 popular demand. The production returned to New York at New World Stages in
  March 2023. Newsday called it “A howling good time. This show is perf
 ect for everyone.” The New York Times claimed\, “Dog Man: The Musica
 l keeps young audiences giggling for nearly 90 minutes. You have to love 
 a show that makes adults laugh too.”\nTickets will be available for purc
 hase starting at 10 A.M. on Friday\, June 20\, 2025 at ticketmaster.com\,
  lexingtonoperahouse.com\, or in person at the Central Bank Center Box Of
 fice from 12-4 P.M. on Wednesdays and Fridays.\n
CATEGORIES:Advance Registration,Age Range,Elementary,Indoor
 Activity,Music,Parents,Preschoolers,Teens
LOCATION:The Lexington Opera House\, 401 W Short Street\, Lexington\, KY\, 
 40507\, United States
GEO:38.050087;-84.499283
X-APPLE-STRUCTURED-LOCATION;VALUE=URI;X-ADDRESS=401 W Short Street\, Lexing
 ton\, KY\, 40507\, United States;X-APPLE-RADIUS=100;X-TITLE=The Lexington 
 Opera House:geo:38.050087,-84.499283
END:VEVENT
BEGIN:VTIMEZONE
TZID:America/Kentucky/Louisville
X-LIC-LOCATION:America/Kentucky/Louisville
BEGIN:STANDARD
DTSTART:20251102T010000
TZOFFSETFROM:-0400
TZOFFSETTO:-0500
TZNAME:EST
END:STANDARD
END:VTIMEZONE
END:VCALENDAR