BEGIN:VCALENDAR
VERSION:2.0
PRODID:-//wp-events-plugin.com//6.6.4.4//EN
TZID:America/Kentucky/Louisville
X-WR-TIMEZONE:America/Kentucky/Louisville
BEGIN:VEVENT
UID:25606@lexfun4kids.com
DTSTART;TZID=America/Kentucky/Louisville:20250315T100000
DTEND;TZID=America/Kentucky/Louisville:20250315T140000
DTSTAMP:20250111T212515Z
URL:https://lexfun4kids.com/events/discovery-saturday-031525/
SUMMARY:Discovery Saturday
DESCRIPTION:\n\n\n\n\n\n\n\nLearn all about our beautiful Lexington\, the H
 orse Capital of the world!\n\n\n\n\n\n\n\n\n\nDiscovery Saturdays are FREE
  events that take place on the 3rd Saturday of each month. These events fe
 ature shows in the Farish Planetarium\, Pre-K Storytime\, self-guided art 
 projects\, and countless hands-on learning opportunities inspired by a dif
 ferent theme each month! Discovery Saturday events are welcome to people o
 f all ages to come and engage in the arts and sciences!\n\n
CATEGORIES:Age Range,Babies,Elementary,Free,Indoor
 Activity,Parents,Preschoolers,STEM,Teens,Toddlers
LOCATION:The Living Arts and Science Center\, 362 N Martin Luther King \, L
 exington\, KY\, 40508\, United States
GEO:38.0487684;-84.48860300000001
X-APPLE-STRUCTURED-LOCATION;VALUE=URI;X-ADDRESS=362 N Martin Luther King \,
  Lexington\, KY\, 40508\, United States;X-APPLE-RADIUS=100;X-TITLE=The Liv
 ing Arts and Science Center:geo:38.0487684,-84.48860300000001
END:VEVENT
BEGIN:VTIMEZONE
TZID:America/Kentucky/Louisville
X-LIC-LOCATION:America/Kentucky/Louisville
BEGIN:DAYLIGHT
DTSTART:20250309T030000
TZOFFSETFROM:-0500
TZOFFSETTO:-0400
TZNAME:EDT
END:DAYLIGHT
END:VTIMEZONE
END:VCALENDAR