BEGIN:VCALENDAR
VERSION:2.0
PRODID:-//wp-events-plugin.com//6.6.4.4//EN
TZID:America/Kentucky/Louisville
X-WR-TIMEZONE:America/Kentucky/Louisville
BEGIN:VEVENT
UID:25605@lexfun4kids.com
DTSTART;TZID=America/Kentucky/Louisville:20250215T100000
DTEND;TZID=America/Kentucky/Louisville:20250215T140000
DTSTAMP:20250211T184835Z
URL:https://lexfun4kids.com/events/discovery-saturday-021525/
SUMMARY:Discovery Saturday
DESCRIPTION:\n\n\n\n\nJoin us this Saturday\, 2/15 10am - 2pm\, for our fre
 e event with activities\, planetarium shows\, crafts and more!\n\n\nIn add
 ition\, Bryce Oquaye's Illustration workshop will be running this Saturday
 \, 2/15 10am - 2pm. Participants will use Cosmo\, our astronaut mascot\, t
 o tell imaginative stories and share fascinating space facts. \n\n\nAttend
 ees can draw\, color\, and create cut-out designs to craft their own uniqu
 e space travel adventures! \n\n\nRegistration is FREE\nhttps://lasc.app.ne
 oncrm.com/np/clients/lasc/event.jsp...&amp\;\nHope to see you there! \n\n\
 n\n\n\n
ATTACH;FMTTYPE=image/jpeg:https://lexfun4kids.com/wp-content/uploads/2025/
 01/DiscoverySaturdaysJan-May3.png
CATEGORIES:Age Range,Babies,Display Image,Elementary,Free,Indoor
 Activity,Lex Fun 4 Kids Listing Type,Parents,Preschoolers,Sponsored
 Events,STEM,Teens,Toddlers
LOCATION:The Living Arts and Science Center\, 362 N Martin Luther King \, L
 exington\, KY\, 40508\, United States
GEO:38.0487684;-84.48860300000001
X-APPLE-STRUCTURED-LOCATION;VALUE=URI;X-ADDRESS=362 N Martin Luther King \,
  Lexington\, KY\, 40508\, United States;X-APPLE-RADIUS=100;X-TITLE=The Liv
 ing Arts and Science Center:geo:38.0487684,-84.48860300000001
END:VEVENT
BEGIN:VTIMEZONE
TZID:America/Kentucky/Louisville
X-LIC-LOCATION:America/Kentucky/Louisville
BEGIN:STANDARD
DTSTART:20241103T010000
TZOFFSETFROM:-0400
TZOFFSETTO:-0500
TZNAME:EST
END:STANDARD
END:VTIMEZONE
END:VCALENDAR