BEGIN:VCALENDAR
VERSION:2.0
PRODID:-//wp-events-plugin.com//6.6.4.4//EN
TZID:America/Kentucky/Louisville
X-WR-TIMEZONE:America/Kentucky/Louisville
BEGIN:VEVENT
UID:25604@lexfun4kids.com
DTSTART;TZID=America/Kentucky/Louisville:20250118T100000
DTEND;TZID=America/Kentucky/Louisville:20250118T140000
DTSTAMP:20250111T211221Z
URL:https://lexfun4kids.com/events/discovery-saturday-011825/
SUMMARY:Discovery Saturday
DESCRIPTION:The greatest wealth is health\, so come celebrate and learn abo
 ut wellness!\nDiscovery Saturdays are FREE events that take place on the 3
 rd Saturday of each month. These events feature shows in the Farish Planet
 arium\, Pre-K Storytime\, self-guided art projects\, and countless hands-o
 n learning opportunities inspired by a different theme each month! Discove
 ry Saturday events are welcome to people of all ages to come and engage in
  the arts and sciences!
ATTACH;FMTTYPE=image/jpeg:https://lexfun4kids.com/wp-content/uploads/2025/
 01/DiscoverySaturdaysJan-May2.png
CATEGORIES:Age Range,Babies,Display Image,Elementary,Free,Indoor
 Activity,Lex Fun 4 Kids Listing Type,Parents,Preschoolers,Sponsored
 Events,STEM,Teens,Toddlers
LOCATION:The Living Arts and Science Center\, 362 N Martin Luther King \, L
 exington\, KY\, 40508\, United States
GEO:38.0487684;-84.48860300000001
X-APPLE-STRUCTURED-LOCATION;VALUE=URI;X-ADDRESS=362 N Martin Luther King \,
  Lexington\, KY\, 40508\, United States;X-APPLE-RADIUS=100;X-TITLE=The Liv
 ing Arts and Science Center:geo:38.0487684,-84.48860300000001
END:VEVENT
BEGIN:VTIMEZONE
TZID:America/Kentucky/Louisville
X-LIC-LOCATION:America/Kentucky/Louisville
BEGIN:STANDARD
DTSTART:20241103T010000
TZOFFSETFROM:-0400
TZOFFSETTO:-0500
TZNAME:EST
END:STANDARD
END:VTIMEZONE
END:VCALENDAR