BEGIN:VCALENDAR
VERSION:2.0
PRODID:-//wp-events-plugin.com//6.6.4.4//EN
TZID:America/Kentucky/Louisville
X-WR-TIMEZONE:America/Kentucky/Louisville
BEGIN:VEVENT
UID:27200@lexfun4kids.com
DTSTART;TZID=America/Kentucky/Louisville:20260321T180000
DTEND;TZID=America/Kentucky/Louisville:20260321T184500
DTSTAMP:20250920T203920Z
URL:https://lexfun4kids.com/events/discover-more-series-naturally-pink-032
 6/
SUMMARY:Discover More Series: Naturally Pink 
DESCRIPTION:\nDiscover More Series: Naturally Pink \n \n\nCelebrate Pinka
 licious with a splash of natural color! Before the Pay What You Will perf
 ormance\, join Wild Thyme for a hands-on demonstration of natural food dye
 ing—see how plants and foods can create brilliant colors\, no artificial
  pink required!\n\n \n\nFREE EVENT!  \nEvent Time: March 21\, 2026 – 
  6:00 pm-6:45 pm\nEvent Location: Lexington Children’s Theatre\n\n
CATEGORIES:Age Range,Arts,Elementary,Free,Indoor
 Activity,Parents,Preschoolers,Teens,Toddlers
LOCATION:Lexington Children's Theatre\, 418 W Short Street\, Lexington\, KY
 \, 40507\, United States
GEO:38.049737;-84.4998094
X-APPLE-STRUCTURED-LOCATION;VALUE=URI;X-ADDRESS=418 W Short Street\, Lexing
 ton\, KY\, 40507\, United States;X-APPLE-RADIUS=100;X-TITLE=Lexington Chil
 dren's Theatre:geo:38.049737,-84.4998094
END:VEVENT
BEGIN:VTIMEZONE
TZID:America/Kentucky/Louisville
X-LIC-LOCATION:America/Kentucky/Louisville
BEGIN:DAYLIGHT
DTSTART:20260308T030000
TZOFFSETFROM:-0500
TZOFFSETTO:-0400
TZNAME:EDT
END:DAYLIGHT
END:VTIMEZONE
END:VCALENDAR