BEGIN:VCALENDAR
VERSION:2.0
PRODID:-//wp-events-plugin.com//6.6.4.4//EN
TZID:America/Kentucky/Louisville
X-WR-TIMEZONE:America/Kentucky/Louisville
BEGIN:VEVENT
UID:25248@lexfun4kids.com
DTSTART;TZID=America/Kentucky/Louisville:20241208T150000
DTEND;TZID=America/Kentucky/Louisville:20241208T163000
DTSTAMP:20241104T015641Z
URL:https://lexfun4kids.com/events/collage-a-holiday-spectacular/
SUMMARY:Collage: A Holiday Spectacular
DESCRIPTION:Saturday\, December 7\, 2024 2 - 3:30pm\nSaturday\, December 
 7\, 2024 7:30 - 9pm\nSunday\, December 8\, 2024 3 - 4:30pm\nRejoice in
  the holiday spirit with the annual Collage! Celebrated vocalists and musi
 cians perform holiday favorites from close to home and around the globe. $
 44 Adults / $21 Students (additional online processing fees may apply)
CATEGORIES:Advance Registration,Age
 Range,Christmas,Elementary,Holidays,Indoor
 Activity,Music,Parents,Performance,Teens
LOCATION:Singletary Center\, 405 Rose Street\, Lexington\, KY\, 40508\, Uni
 ted States
GEO:38.037807;-84.50116149999997
X-APPLE-STRUCTURED-LOCATION;VALUE=URI;X-ADDRESS=405 Rose Street\, Lexington
 \, KY\, 40508\, United States;X-APPLE-RADIUS=100;X-TITLE=Singletary Center
 :geo:38.037807,-84.50116149999997
END:VEVENT
BEGIN:VTIMEZONE
TZID:America/Kentucky/Louisville
X-LIC-LOCATION:America/Kentucky/Louisville
BEGIN:STANDARD
DTSTART:20241103T010000
TZOFFSETFROM:-0400
TZOFFSETTO:-0500
TZNAME:EST
END:STANDARD
END:VTIMEZONE
END:VCALENDAR