BEGIN:VCALENDAR
VERSION:2.0
PRODID:-//wp-events-plugin.com//6.6.4.4//EN
TZID:America/Kentucky/Louisville
X-WR-TIMEZONE:America/Kentucky/Louisville
BEGIN:VEVENT
UID:29320@lexfun4kids.com
DTSTART;TZID=America/Kentucky/Louisville;VALUE=DATE:20260404
DTEND;TZID=America/Kentucky/Louisville;VALUE=DATE:20260405
DTSTAMP:20260404T220248Z
URL:https://lexfun4kids.com/events/click-here-for-spring-break-events-2026
 -04-04/
SUMMARY:Click here for Spring Break Events!
DESCRIPTION:There are some great events all around Lexington for Spring Bre
 ak!  CLICK HERE!\n
CATEGORIES:Age
 Range,Babies,Elementary,Free,Parents,Preschoolers,Teens,Toddlers
END:VEVENT
BEGIN:VTIMEZONE
TZID:America/Kentucky/Louisville
X-LIC-LOCATION:America/Kentucky/Louisville
BEGIN:DAYLIGHT
DTSTART:20260308T030000
TZOFFSETFROM:-0500
TZOFFSETTO:-0400
TZNAME:EDT
END:DAYLIGHT
END:VTIMEZONE
END:VCALENDAR