BEGIN:VCALENDAR
VERSION:2.0
PRODID:-//wp-events-plugin.com//6.6.4.4//EN
TZID:America/Kentucky/Louisville
X-WR-TIMEZONE:America/Kentucky/Louisville
BEGIN:VEVENT
UID:29125@lexfun4kids.com
DTSTART;TZID=America/Kentucky/Louisville:20260707T190000
DTEND;TZID=America/Kentucky/Louisville:20260707T203000
DTSTAMP:20260314T211727Z
URL:https://lexfun4kids.com/events/big-band-jazz-4-2026-07-07/
SUMMARY:Big Band & Jazz
DESCRIPTION:\n\n\n\nThe return of spring means the return of one of Lexingt
 on's longest-running and most beloved concert series – Big Band &amp\; J
 azz. With a full schedule of live music planned\, concert-goers can enjoy 
 weekly big band or jazz music at Moondance Amphitheater and Ecton Park. P
 icnics are encouraged and patrons should bring a lawn chair or blanket for
  seating.\n\n\n\n\n\n\n\nDetails\n\n\n\nMay 12 – June 30 at Moondance A
 mphitheater\nJuly 7 – Aug. 11 at Ecton Park\n7 – 8:30 p.m.\nFree\n\n\
 n\n\n\n\n\n2026 schedule\n\n\n\nMoondance Amphitheater\n\n 	Tuesday\, May 
 12: Metrognomes Big Band\n 	Tuesday\, May 19: Young at Heart Big Band\n 
 	Tuesday\, May 26: BAJA-Bluegrass Area Jazz Ambassadors\n 	Tuesday\, June
  2: Marlin McKay Quintet\n 	Tuesday\, June 9: Somerset Big Band\n 	Tuesd
 ay\, June 16: Lee Carroll Quintet\n 	Tuesday\, June 23: Zach Brock Quart
 et\n 	Tuesday\, June 30: Patriotic Big Band &amp\; Jazz: The Lexington Co
 ncert Band\n\nEcton Park\n\n 	Tuesday\, July 7: DOJO-DiMartino/Osland Jaz
 z Orchastra\n 	Tuesday\, July 14: Brett Evans Trombone Orchestra\n 	Tuesd
 ay\, July 21: Bryson Dunsmore Trio with Kirby Davis\n 	Tuesday\, July 28:
  RPM Quintet\n 	Tuesday\, Aug. 4: Miles Osland Little Big Band\n 	Tuesda
 y\, Aug. 11: Walnut Street Ramblers\n\n\n\n
CATEGORIES:Age Range,Babies,Elementary,Free,Music,Outdoor
 Activity,Parents,Preschoolers,Teens,Toddlers
LOCATION:Ecton Park\, 956 Turkey Foot Rd\, Lexington\, KY\, 40502\, United 
 States
GEO:38.014923;-84.490206
X-APPLE-STRUCTURED-LOCATION;VALUE=URI;X-ADDRESS=956 Turkey Foot Rd\, Lexing
 ton\, KY\, 40502\, United States;X-APPLE-RADIUS=100;X-TITLE=Ecton Park:geo
 :38.014923,-84.490206
END:VEVENT
BEGIN:VTIMEZONE
TZID:America/Kentucky/Louisville
X-LIC-LOCATION:America/Kentucky/Louisville
BEGIN:DAYLIGHT
DTSTART:20260308T030000
TZOFFSETFROM:-0500
TZOFFSETTO:-0400
TZNAME:EDT
END:DAYLIGHT
END:VTIMEZONE
END:VCALENDAR