BEGIN:VCALENDAR
VERSION:2.0
PRODID:-//wp-events-plugin.com//6.6.4.4//EN
TZID:America/Kentucky/Louisville
X-WR-TIMEZONE:America/Kentucky/Louisville
BEGIN:VEVENT
UID:29190@lexfun4kids.com
DTSTART;TZID=America/Kentucky/Louisville:20260328T100000
DTEND;TZID=America/Kentucky/Louisville:20260328T120000
DTSTAMP:20260328T151011Z
URL:https://lexfun4kids.com/events/be-my-neighbor-day-2026/
SUMMARY:Be My Neighbor Day
DESCRIPTION:Be My Neighbor Day\nKET invites children and families to Be M
 y Neighbor Day on Saturday\, March 28\, 2026\, at Lexington Public Librar
 y – Marksbury Branch\, 2197 Versailles Road\, Lexington\, KY 40504\, fro
 m 10 a.m. to noon.\n\nThis FREE family event celebrates ways YOU can be a 
 caring neighbor. Meet community helpers like local first responders\, libr
 arians and more! Online registration is required.\n\n\n\nDía “Sé Mi Ve
 cino”\nKET invita a niños y familias al Día “Sé Mi Vecino” (Be 
 My Neighbor) el sábado 28 de marzo de 2026\, en la Biblioteca Pública d
 e Lexington – Sucursal Marksbury\, 2197 Versailles Road\, Lexington\, KY
  40504\, de 10:00 a.m. a 12:00 p.m.\n\nEste evento familiar GRATUITO celeb
 ra las formas en que TÚ puedes ser un vecino atento. ¡Conoce a los ayuda
 ntes de la comunidad\, como el personal local de emergencias\, bibliotecar
 ios y mucho más! Se requiere inscripción online.
ATTACH;FMTTYPE=image/jpeg:https://lexfun4kids.com/wp-content/uploads/2026/
 03/4990_BMND26-Social-Media-1080x1080-1.jpg
CATEGORIES:Age Range,Babies,Elementary,Free,Indoor
 Activity,Parents,Preschoolers,Toddlers
LOCATION:Lexington Public Library Marksbury Family Branch\, 2197 Versailles
  Rd\, Lexington\, KY\, 40504\, United States
GEO:38.048005;-84.548485
X-APPLE-STRUCTURED-LOCATION;VALUE=URI;X-ADDRESS=2197 Versailles Rd\, Lexing
 ton\, KY\, 40504\, United States;X-APPLE-RADIUS=100;X-TITLE=Lexington Publ
 ic Library Marksbury Family Branch:geo:38.048005,-84.548485
END:VEVENT
BEGIN:VTIMEZONE
TZID:America/Kentucky/Louisville
X-LIC-LOCATION:America/Kentucky/Louisville
BEGIN:DAYLIGHT
DTSTART:20260308T030000
TZOFFSETFROM:-0500
TZOFFSETTO:-0400
TZNAME:EDT
END:DAYLIGHT
END:VTIMEZONE
END:VCALENDAR