BEGIN:VCALENDAR
VERSION:2.0
PRODID:-//wp-events-plugin.com//6.6.4.4//EN
TZID:America/Kentucky/Louisville
X-WR-TIMEZONE:America/Kentucky/Louisville
BEGIN:VEVENT
UID:18886@lexfun4kids.com
DTSTART;TZID=America/Kentucky/Louisville:20220507T140000
DTEND;TZID=America/Kentucky/Louisville:20220507T143000
DTSTAMP:20220429T154551Z
URL:https://lexfun4kids.com/events/balloonacy-050722/
SUMMARY:Balloonacy
DESCRIPTION:Some stories don’t require words to make an impact on your he
 art. Balloonacy follows the unlikely friendship of a lonely old man and
  a magical red balloon. This Theatre for the Very Young Production is per
 fect for ages 3-7 and is all about the rediscovery of play and of the unr
 uly joy it brings. Balloonacy is full of moments to make you laugh\, cry
 \, and remind you that you are never alone in the world. \n\nBy Barr
 y Kornhauser \n\nBest enjoyed by ages 3-7 \n\nLocation: The LCT Learni
 ng Stage \n\nLength of Show: Approximately 30 minutes long.
CATEGORIES:$10 or Less,Age Range,Elementary,Indoor
 Activity,Parents,Preschoolers,Theater
LOCATION:Lexington Children's Theatre\, 418 W Short Street\, Lexington\, KY
 \, 40507\, United States
GEO:38.049737;-84.4998094
X-APPLE-STRUCTURED-LOCATION;VALUE=URI;X-ADDRESS=418 W Short Street\, Lexing
 ton\, KY\, 40507\, United States;X-APPLE-RADIUS=100;X-TITLE=Lexington Chil
 dren's Theatre:geo:38.049737,-84.4998094
END:VEVENT
BEGIN:VTIMEZONE
TZID:America/Kentucky/Louisville
X-LIC-LOCATION:America/Kentucky/Louisville
BEGIN:DAYLIGHT
DTSTART:20220313T030000
TZOFFSETFROM:-0500
TZOFFSETTO:-0400
TZNAME:EDT
END:DAYLIGHT
END:VTIMEZONE
END:VCALENDAR