BEGIN:VCALENDAR
VERSION:2.0
PRODID:-//wp-events-plugin.com//6.6.4.4//EN
TZID:America/Kentucky/Louisville
X-WR-TIMEZONE:America/Kentucky/Louisville
BEGIN:VEVENT
UID:29042@lexfun4kids.com
DTSTART;TZID=America/Kentucky/Louisville:20260322T110000
DTEND;TZID=America/Kentucky/Louisville:20260322T150000
DTSTAMP:20260308T224438Z
URL:https://lexfun4kids.com/events/aquatic-easter-egg-hunt-032226/
SUMMARY:Aquatic Easter Egg Hunt
DESCRIPTION:Aquatic Egg Hunt\nThe Pavilion\, Georgetown\nMarch 22\, 2026\n1
 1 am - Noon (Sensory Hour)\n12 pm - 3 pm\nDive into the fun at our Annual 
 Aquatic Easter Egg Hunt on March 22\, 2026\, at the Pavilion!\nEvent Sched
 ule:\n💛 Sensory Hour (All Ages): 11:00 AM–12:00 PM\n💙 Ages 3–5: 
 12:30–1:00 PM\n💚 Ages 6–9: 1:30–2:00 PM\n🧡 Ages 10–12: 2:30
 –3:00 PM\nChildren will be swimming to collect their eggs\, so don’t f
 orget a swimsuit! 🏊‍♀️\nReminder: Parents must swim with children
  under age 5.\n🎟️ Fee: Daily entry into the Pavilion (FREE for member
 s)\nBring your baskets\, your swimsuits\, and get ready for an egg-stra sp
 ecial day of fun! 🐰🥚
CATEGORIES:Age Range,Easter,Egg Hunt,Elementary,Free,Holidays,Indoor
 Activity,Parents,Preschoolers,Special Needs/Sensory Friendly
LOCATION:The Pavilion\, 140 Pavilion Drive\, Georgetown\, KY\, 40324\, Unit
 ed States
GEO:38.232459;-84.54330470000002
X-APPLE-STRUCTURED-LOCATION;VALUE=URI;X-ADDRESS=140 Pavilion Drive\, George
 town\, KY\, 40324\, United States;X-APPLE-RADIUS=100;X-TITLE=The Pavilion:
 geo:38.232459,-84.54330470000002
END:VEVENT
BEGIN:VTIMEZONE
TZID:America/Kentucky/Louisville
X-LIC-LOCATION:America/Kentucky/Louisville
BEGIN:DAYLIGHT
DTSTART:20260308T030000
TZOFFSETFROM:-0500
TZOFFSETTO:-0400
TZNAME:EDT
END:DAYLIGHT
END:VTIMEZONE
END:VCALENDAR