BEGIN:VCALENDAR
VERSION:2.0
PRODID:-//wp-events-plugin.com//6.6.4.4//EN
TZID:America/Kentucky/Louisville
X-WR-TIMEZONE:America/Kentucky/Louisville
BEGIN:VEVENT
UID:29349@lexfun4kids.com
DTSTART;TZID=America/Kentucky/Louisville:20260509T130000
DTEND;TZID=America/Kentucky/Louisville:20260509T150000
DTSTAMP:20260418T212941Z
URL:https://lexfun4kids.com/events/amphibians-vs-reptiles-050926/
SUMMARY:Amphibians vs. Reptiles
DESCRIPTION:Join us to celebrate Amphibian Week with our special drop-in pr
 ogram: Amphibians vs. Reptiles! Ever wondered about the differences betwee
 n these two amazing groups of animals? Ever had a chance to see and touch 
 a turtle\, salamander\, or snake up close? Stop by Raven Run to learn and 
 experience these creatures up close. The Price Herpetology Lab from the Un
 iversity of Kentucky will be joining us with their expert knowledge and li
 ve adult amphibians and reptiles. This is an all-ages drop-in program in o
 ur Education Building area. Free. No registration required but please be r
 espectful in sharing space. Please note that this program does not include
  a hike to the creek or pond.\nMay 9\, 2026 1 pm - 3 pm FREE
CATEGORIES:Advance Registration,Age Range,Elementary,Free,Outdoor
 Activity,Parents,Preschoolers,Teens,Toddlers
LOCATION:Raven Run\, 3885 Raven Run Way\, Lexington\, KY\, 40515\, United S
 tates
GEO:37.88843200000001;-84.39842909999999
X-APPLE-STRUCTURED-LOCATION;VALUE=URI;X-ADDRESS=3885 Raven Run Way\, Lexing
 ton\, KY\, 40515\, United States;X-APPLE-RADIUS=100;X-TITLE=Raven Run:geo:
 37.88843200000001,-84.39842909999999
END:VEVENT
BEGIN:VTIMEZONE
TZID:America/Kentucky/Louisville
X-LIC-LOCATION:America/Kentucky/Louisville
BEGIN:DAYLIGHT
DTSTART:20260308T030000
TZOFFSETFROM:-0500
TZOFFSETTO:-0400
TZNAME:EDT
END:DAYLIGHT
END:VTIMEZONE
END:VCALENDAR