BEGIN:VCALENDAR
VERSION:2.0
PRODID:-//wp-events-plugin.com//6.6.4.4//EN
TZID:America/Kentucky/Louisville
X-WR-TIMEZONE:America/Kentucky/Louisville
BEGIN:VEVENT
UID:29318@lexfun4kids.com
DTSTART;TZID=America/Kentucky/Louisville:20260516T100000
DTEND;TZID=America/Kentucky/Louisville:20260516T130000
DTSTAMP:20260404T215551Z
URL:https://lexfun4kids.com/events/addies-day/
SUMMARY:Addie's Day
DESCRIPTION:\n\nIt's Addie's Day at the Kentucky Children's Garden on Satur
 day\, May 16. Enjoy FREE admission all day with special programs including
  crafts\, STEM activities\, and more! Special activities will take place b
 etween 10 am and 1 pm\, with the garden remaining open all day from 10 am 
 to 5 pm.\n\n \n\nThis is a free admission day in the Kentucky Children's G
 arden\, in memory of Adelaide Kennedy McReynolds.\n\n
CATEGORIES:Age Range,Babies,Elementary,Free,Outdoor
 Activity,Parents,Teens,Toddlers
LOCATION:Kentucky Children's Garden\, 500 Alumni Drive\, Lexington\, KY\, 4
 0503\, United States
GEO:38.0191109;-84.50826430000001
X-APPLE-STRUCTURED-LOCATION;VALUE=URI;X-ADDRESS=500 Alumni Drive\, Lexingto
 n\, KY\, 40503\, United States;X-APPLE-RADIUS=100;X-TITLE=Kentucky Childre
 n's Garden:geo:38.0191109,-84.50826430000001
END:VEVENT
BEGIN:VTIMEZONE
TZID:America/Kentucky/Louisville
X-LIC-LOCATION:America/Kentucky/Louisville
BEGIN:DAYLIGHT
DTSTART:20260308T030000
TZOFFSETFROM:-0500
TZOFFSETTO:-0400
TZNAME:EDT
END:DAYLIGHT
END:VTIMEZONE
END:VCALENDAR