BEGIN:VCALENDAR
VERSION:2.0
PRODID:-//wp-events-plugin.com//6.6.4.4//EN
TZID:America/Kentucky/Louisville
X-WR-TIMEZONE:America/Kentucky/Louisville
BEGIN:VEVENT
UID:18881@lexfun4kids.com
DTSTART;TZID=America/Kentucky/Louisville:20220507T100000
DTEND;TZID=America/Kentucky/Louisville:20220507T220000
DTSTAMP:20220428T162512Z
URL:https://lexfun4kids.com/events/activate-games-grand-opening-050722/
SUMMARY:Activate Games Grand Opening
DESCRIPTION:Activate Games\, an indoor\, interactive gaming experience\, is
  opening a new location in Lexington this May. Activate Games takes entert
 ainment into the future by fusing technology and physical activity togethe
 r to create live action gaming experiences.
ATTACH;FMTTYPE=image/jpeg:https://lexfun4kids.com/wp-content/uploads/2022/
 04/Activate_1to1.jpeg
CATEGORIES:Age Range,Indoor Activity,Parents,Teens
LOCATION:Activate Games\, 2312 Sir Barton Way Suite 150\, Lexington\, KY\, 
 40509\, United States
GEO:38.023715;-84.422437
X-APPLE-STRUCTURED-LOCATION;VALUE=URI;X-ADDRESS=2312 Sir Barton Way Suite 1
 50\, Lexington\, KY\, 40509\, United States;X-APPLE-RADIUS=100;X-TITLE=Act
 ivate Games:geo:38.023715,-84.422437
END:VEVENT
BEGIN:VTIMEZONE
TZID:America/Kentucky/Louisville
X-LIC-LOCATION:America/Kentucky/Louisville
BEGIN:DAYLIGHT
DTSTART:20220313T030000
TZOFFSETFROM:-0500
TZOFFSETTO:-0400
TZNAME:EDT
END:DAYLIGHT
END:VTIMEZONE
END:VCALENDAR